BEGIN:VCALENDAR
PRODID:NingEventWidget-v1
VERSION:2.0
METHOD:PUBLISH
BEGIN:VEVENT
UID:2508951:Event:146794
DTSTAMP:20260424T091422Z
SUMMARY:Click here for TUESDAY'S VIRGINIA BEACH ENTERTAINMENT LISTING
DESCRIPTION:\nENTERTAINMENT:Bookings can change at the last minute, so
  we recommend checking with the venue before heading out! 7th St. Stag
 e - POWER PLAY  6-10PM13th St. Stage - THE LIFE & MUSIC OF ELLA FITZG
 ERALD  7-10PM24th St. Stage - US FLEET FORCES BAND WIND ENSEMBLE  8-
 10PM31st St. Stage - PLASTIC EDDIE  6-10PMAbbey Road – OPEN STAGE w
 / KARL WERNE 9:30PMIl Giardino - REGINALD BLACKWELL: THE SOUNDS OF FRA
 NK SINATRA  Jewish Mother Hilltop - SPAH + HARMONICA BLOWOUTKeagan’
 s – JACK BECKER 10PMLunaSea - JESSE CHONG  10PMPoppa’s Pub - *OPE
 N MIC* w/ JOHNNY RAY  7:30-10:30PMSandbar Cafe - BRANDON BOWER  6-9P
 MSidestreet Cantina - KATE & DAVE  8PMSpringhill Suites Boardwalk Pat
 io - BRENT SHEPARD  4-7PM THEATRE/FUNDRAISERS/CONCERTS/SPORTS:TODAY
 S TIDES BASEBALL SCHEDULE FOUND ON NORFOLKNIGHTLIFE.COM DJ’S/KARA
 OKE/DANCES:Brass Bell - *KARAOKE* 9PMCabo Café – SOME GUY NAMED TIA
 S *Z104 COLLEGE NIGHT* 10PMCentral 111 – *FEVER TUESDAYS* w/ SEVEN C
 ITIES SALSA LESSONSChemistry - *DOUBLE ELIMINATION BAR PONG w/ DJ JULZ
 - $100 CASH PRIZE*  9:30PM  Chicho’s 29th - *PONG TOURNAMENT* w/ D
 J SAL $200 CASH PRIZE  9PMFat Tuesday’s - *KARAOKE*Green Oak Pub - 
 *OPEN MIC*Harry O’s – HARRY-OKE 9PM (Ages 25+)Knuckleheads - *KARA
 OKE*  7PMPoppa’s Pub - *KARAOKE* 9:30PMReef Lounge - *KARAOKE*  9P
 MRetro Cafe - DJ RAW BASE  10PM  *BATTLE OF THE SEXES CORNHOLE TOURN
 AMENT*Shaka’s - YELLOWMAN  9PM  ($15)Venue 112 - *KARAOKE*FAMILY F
 UN/SPECIAL EVENTS:17th St. Stage - CIRCUS IN THE PARK  7:30-10:30PMOl
 d Coast Guard Station - SHIPWRECKS & GHOST LORE  7:30-9PM  ($5/10)Vi
 rginia Aquarium – TODDLER TUESDAYS 11AMVirginia Aquarium - “DISCOV
 ER THE WOODS” WILDLIFE SEARCH  10AM-4PM  (WEATHER PERMITTING)\n \
 nCLICK HERE REACH OUR VENUE'S PAGE TO FIND ADDRESSES AND PHONE NUMBERS
  OF PLACES LISTED\nCLICK HERE FOR OUR BAND/DJ PAGE TO FIND DESCRIPTION
  OF THE BANDS AND LINKS TO THEIR WEB PAGES\n\n\nFor more information v
 isit https://vbnightlife.com/events/click-here-for-tuesdays-462
DTSTART:20110809T040000Z
DTEND:20110810T035900Z
CATEGORIES:"virginia beach", "virginia beach events", "virginia beach 
 bands", "virginia beach entertainment"
LOCATION:Virginia Beach
WEBSITE:
URL:
CONTACT:
ORGANIZER:VBnightlife.com / VBdaylife.com
ATTACH;FMTTYPE="image/jpeg":http://storage.ning.com/topology/rest/1.0/
 file/get/1664143084?profile=original
ATTENDEE;ROLE=REQ-PARTICIPANT;PARTSTAT=ACCEPTED;RSVP=TRUE;CN="VBnightl
 ife.com":https://vbnightlife.com/profile/admin
END:VEVENT
END:VCALENDAR
