BEGIN:VCALENDAR
PRODID:NingEventWidget-v1
VERSION:2.0
METHOD:PUBLISH
BEGIN:VEVENT
UID:2508951:Event:102403
DTSTAMP:20260424T184924Z
SUMMARY:Click here for TUESDAY'S VIRGINIA BEACH ENTERTAINMENT LISTING
DESCRIPTION:\nCLICK HERE REACH OUR VENUE'S PAGE TO FIND ADDRESSES AND 
 PHONE NUMBERS OF PLACES LISTED\nCLICK HERE FOR OUR BAND/DJ PAGE TO FIN
 D DESCRIPTION OF THE BANDS AND LINKS TO THEIR WEB PAGES\nENTERTAINMENT
 :Bookings can change at the last minute, so we recommend checking with
  the venue before heading out!24th St. Stage – CORY DANIEL BAND  8-
 10:30PM31st St. Stage - KEVIN KELLEY + SHERRI LINN  6-10PMAbbey Road 
 – OPEN STAGE w/ KARL WERNE 8:30PM Fire & Vine - BRENT SHEPARD  6-9P
 MJewish Mother Hilltop - TROMBONE SHORTY & NEW ORLEANS AVENUE + JAMIE 
 MCLEAN BAND  8PMKeagan’s – JACK BECKER 10PMLendy’s - SCHOLARS W
 ORD  10PMLunaSea - JESSE CHONG  10PMSandbar Cafe Poolside - BRANDON 
 BOWER  6-9PM\nSidestreet Cantina - KATE & DAVE  8PMTHEATRE/FUNDRAISE
 RS/CONCERTS/SPORTS:VIEW BASEBALL SCHEDULES IN NORFOLK BY CLICKING HERE
 DJ’S/KARAOKE/DANCES:Cabo Café – SOME GUY NAMED TIAS *Z104 COLLEGE
  NIGHT* 10PMCentral 111 – *FEVER TUESDAYS* w/ SEVEN CITIES SALSA LES
 SONSFat Tuesday’s - *KARAOKE*Green Oak Pub - *OPEN MIC*Harry O’s 
  HARRY-OKE 9PM (Ages 25+)Knuckleheads - *KARAOKE*  7PMReef Lounge -
  *KARAOKE*  9PMRetro Cafe - DJ RAW BASE  10PM  *BATTLE OF THE SEXES
  CORNHOLE TOURNAMENT*Venue 112 - *KARAOKE*FAMILY FUN/SPECIAL EVENTS:Hi
 storic Villages at Cape Henry – SPRING FIELD TRIP  10AM-12PMVirgini
 a Aquarium – TODDLER TUESDAYS 11AMVirginia Aquarium - “DISCOVER TH
 E WOODS” WILDLIFE SEARCH  10AM-4PM  (WEATHER PERMITTING)West Neck 
 - HOME-A-RAMA: EAGLE'S NEST  12-9PMHAPPY HOUR/FOOD SPECIALS:Retro Caf
 e - $1 PIZZA BY THE SLICE, $1 BASKET OF FRIES, $1 BEER OF THE WEEK TIL
  11AM-9PMGreen Onion – ½ PRICE BOTTLED WINE\n\nFor more information
  visit https://vbnightlife.com/events/click-here-for-tuesdays-43
DTSTART:20110607T040000Z
DTEND:20110608T035900Z
CATEGORIES:"virginia beach", "virginia beach events", "virginia beach 
 bands", "virginia beach entertainment"
LOCATION:Virginia Beach
WEBSITE:
URL:
CONTACT:
ORGANIZER:VBnightlife.com / VBdaylife.com
ATTACH;FMTTYPE="image/jpeg":http://storage.ning.com/topology/rest/1.0/
 file/get/1664143167?profile=original
ATTENDEE;ROLE=REQ-PARTICIPANT;PARTSTAT=ACCEPTED;RSVP=TRUE;CN="VBnightl
 ife.com":https://vbnightlife.com/profile/admin
END:VEVENT
END:VCALENDAR
