BEGIN:VCALENDAR
PRODID:NingEventWidget-v1
VERSION:2.0
METHOD:PUBLISH
BEGIN:VEVENT
UID:2508951:Event:146764
DTSTAMP:20260423T170710Z
SUMMARY:Click here for TUESDAY'S VIRGINIA BEACH ENTERTAINMENT LISTING
DESCRIPTION:\nCLICK HERE REACH OUR VENUE'S PAGE TO FIND ADDRESSES AND 
 PHONE NUMBERS OF PLACES LISTED\nCLICK HERE FOR OUR BAND/DJ PAGE TO FIN
 D DESCRIPTION OF THE BANDS AND LINKS TO THEIR WEB PAGES\nENTERTAINMENT
 :Bookings can change at the last minute, so we recommend checking with
  the venue before heading out! 7th St. Stage - EL KABONG  6-10PM13th 
 St. Stage - THE LIFE & MUSIC OF ELLA FITZGERALD  7-10PM24th St. Stage
  - USAF BLUE ACES  8-10PM25th St. Stage - WRECK OF THE DICTATOR  8:3
 0-11PM31st St. Stage - BEN PHELPS PROJECT  6-10PMAbbey Road – OPEN 
 STAGE w/ KARL WERNE 8:30PMIl Giardino - REGINALD BLACKWELL: THE SOUNDS
  OF FRANK SINATRA  Keagan’s – JACK BECKER 10PMLunaSea - JESSE CHO
 NG  10PMPoppa’s Pub - *OPEN MIC* w/ JOHNNY RAY  7:30-10:30PMSandba
 r Cafe - BRANDON BOWER  6-9PMSidestreet Cantina - KATE & DAVE  8PMTH
 EATRE/FUNDRAISERS/CONCERTS/SPORTS:DJ’S/KARAOKE/DANCES:Brass Bell - *
 KARAOKE* 9PMCabo Café – SOME GUY NAMED TIAS *Z104 COLLEGE NIGHT* 10
 PMCentral 111 – *FEVER TUESDAYS* w/ SEVEN CITIES SALSA LESSONSChemis
 try - *DOUBLE ELIMINATION BAR PONG - $100 CASH PRIZE*  9:30PM  Fat T
 uesday’s - *KARAOKE*Green Oak Pub - *OPEN MIC*H2O - DON BUNCH & CHAR
 LIE AUSTIN  6:30-9:30PMHarry O’s – HARRY-OKE 9PM (Ages 25+)Knuckl
 eheads - *KARAOKE*  7PMPoppa’s Pub - *KARAOKE* 9:30PMReef Lounge - 
 *KARAOKE*  9PMRetro Cafe - DJ RAW BASE  10PM  *BATTLE OF THE SEXES 
 CORNHOLE TOURNAMENT*Shaka’s - *OPEN MIC*Venue 112 - *KARAOKE*FAMILY 
 FUN/SPECIAL EVENTS:Jewish Mother Hilltop - BOB KUNZINGER READING  8PM
 Virginia Aquarium – TODDLER TUESDAYS 11AMVirginia Aquarium - “DISC
 OVER THE WOODS” WILDLIFE SEARCH  10AM-4PM  (WEATHER PERMITTING)\n\
 nFor more information visit https://vbnightlife.com/events/click-here-
 for-tuesdays-346
DTSTART:20110719T040000Z
DTEND:20110720T035900Z
CATEGORIES:"virginia beach", "virginia beach events", "virginia beach 
 bands", "virginia beach entertainment"
LOCATION:Virginia Beach
WEBSITE:
URL:
CONTACT:
ORGANIZER:VBnightlife.com / VBdaylife.com
ATTACH;FMTTYPE="image/jpeg":http://storage.ning.com/topology/rest/1.0/
 file/get/1664143424?profile=original
ATTENDEE;ROLE=REQ-PARTICIPANT;PARTSTAT=ACCEPTED;RSVP=TRUE;CN="VBnightl
 ife.com":https://vbnightlife.com/profile/admin
END:VEVENT
END:VCALENDAR
