BEGIN:VCALENDAR
PRODID:NingEventWidget-v1
VERSION:2.0
METHOD:PUBLISH
BEGIN:VEVENT
UID:2508951:Event:146560
DTSTAMP:20260424T074128Z
SUMMARY:Click here for TUESDAY'S VIRGINIA BEACH ENTERTAINMENT LISTING
DESCRIPTION:\nENTERTAINMENT:Bookings can change at the last minute, so
  we recommend checking with the venue before heading out! 7th St. Stag
 e - CHEAP THRILLS  6-10PM13th St. Stage - THE LIFE & MUSIC OF ELLA FI
 TZGERALD  7-10PM24th St. Stage - US FLEET FORCES JAZZ ENSEMBLE  8-10
 PM31st St. Stage - BORDERLINE CRAZY TRIO  6-10PMAbbey Road – OPEN S
 TAGE w/ KARL WERNE 9:30PMBaja Sandbridge - MOCEAN  7-10PMIl Giardino 
 - REGINALD BLACKWELL: THE SOUNDS OF FRANK SINATRA  Keagan’s – JAC
 K BECKER 10PMLunaSea - JESSE CHONG  10PMPoppa’s Pub - *OPEN MIC* w/
  JOHNNY RAY  7:30-10:30PMSandbar Cafe - BRANDON BOWER  6-9PMSidestre
 et Cantina - KATE & DAVE  8PMSwell - *HAPPY HOUR PARTY BUS* to KID RO
 CK + SHERYL CROW  4PM  ($23)Tortugas - JACK BECKER  6-9PM THEATRE/
 FUNDRAISERS/CONCERTS/SPORTS:Farm Bureau Live – KID ROCK + SHERYL CRO
 W  7PM  ($25-100)Virginia Beach Oceanfront - EAST COAST SURFING CHAM
 PIONSHIPS  DJ’S/KARAOKE/DANCES:Brass Bell - *KARAOKE* 9PMCabo Café
  – SOME GUY NAMED TIAS *Z104 COLLEGE NIGHT* 10PMCentral 111 – *FEV
 ER TUESDAYS* w/ SEVEN CITIES SALSA LESSONSChemistry - *DOUBLE ELIMINAT
 ION BAR PONG w/ DJ JULZ- $100 CASH PRIZE*  9:30PM  Chicho’s 29th -
  *PONG TOURNAMENT* w/ DJ SAL $200 CASH PRIZE  9PMFat Tuesday’s - *K
 ARAOKE*Green Oak Pub - *OPEN MIC*Harry O’s – HARRY-OKE 9PM (Ages 2
 5+)Knuckleheads - *KARAOKE*  7PMPoppa’s Pub - *KARAOKE* 9:30PMReef 
 Lounge - *KARAOKE*  9PMRetro Cafe - DJ RAW BASE  10PM  *BATTLE OF T
 HE SEXES CORNHOLE TOURNAMENT*Shaka’s - *OPEN MIC*Venue 112 - *KARAOK
 E*FAMILY FUN/SPECIAL EVENTS:17th St. Stage - CIRCUS IN THE PARK  7:30
 -10:30PMOld Coast Guard Station - SHIPWRECKS & GHOST LORE  7:30-9PM 
 ($5/10)Virginia Aquarium – TODDLER TUESDAYS 11AMVirginia Aquarium -
  “DISCOVER THE WOODS” WILDLIFE SEARCH  10AM-4PM  (WEATHER PERMIT
 TING)\nCLICK HERE REACH OUR VENUE'S PAGE TO FIND ADDRESSES AND PHONE N
 UMBERS OF PLACES LISTED\nCLICK HERE FOR OUR BAND/DJ PAGE TO FIND DESCR
 IPTION OF THE BANDS AND LINKS TO THEIR WEB PAGES\n\n\nFor more informa
 tion visit https://vbnightlife.com/events/click-here-for-tuesdays-291
DTSTART:20110823T040000Z
DTEND:20110824T035900Z
CATEGORIES:"virginia beach", "virginia beach events", "virginia beach 
 bands", "virginia beach entertainment"
LOCATION:Virginia Beach
WEBSITE:
URL:
CONTACT:
ORGANIZER:VBnightlife.com / VBdaylife.com
ATTACH;FMTTYPE="image/jpeg":http://storage.ning.com/topology/rest/1.0/
 file/get/1664148338?profile=original
ATTENDEE;ROLE=REQ-PARTICIPANT;PARTSTAT=ACCEPTED;RSVP=TRUE;CN="VBnightl
 ife.com":https://vbnightlife.com/profile/admin
END:VEVENT
END:VCALENDAR
