BEGIN:VCALENDAR
PRODID:NingEventWidget-v1
VERSION:2.0
METHOD:PUBLISH
BEGIN:VEVENT
UID:2508951:Event:166874
DTSTAMP:20260423T193229Z
SUMMARY:Click here for TUESDAY'S VIRGINIA BEACH ENTERTAINMENT LISTING
DESCRIPTION:\nENTERTAINMENT:31st St. Stage - ELEMENT  6-10PMAbbey Roa
 d – *OPEN MIC* w/ KARL WERNE 8:30PMBayside Inn - *OPEN MIC* w/ DIANE
   8:30PMDeja Blu - *OPEN MIC*  8:30PMDiesel - DROWNING POOL + BURN H
 ALO + KYNG + ECHOES OF THE FALL  Green Oak - *OPEN MIC* w/ DAWNHA  9
 :30PMKeagan’s – JACK BECKER 10PMIl Giardino - REGINALD BLACKWELL: 
 THE SOUNDS OF FRANK SINATRA  Lighthouse Beachside Grill - MARK ALLEY 
  8-11PMLunaSea - JESSE CHONG  10PMPoppa’s Pub - *OPEN MIC* w/ JOHN
 NY RAY  7:30-10:30PMSidestreet Cantina - KATE & DAVE  8PMStarbuck’
 s Shore Dr. - *OPEN MIC* w/ RACHEL  6:30PM\n THEATRE/FUNDRAISERS/CON
 CERTS/SPORTS:DJ’S/KARAOKE/DANCES:Brass Bell - *KARAOKE* 9PMCabo Caf
  – DJ BRYAN ONE + TIAS *Z104 COLLEGE NIGHT* 10PMCentral 111 – *FE
 VER TUESDAYS* w/ SEVEN CITIES SALSA LESSONSChicho’s 29th - *PONG TOU
 RNAMENT* w/ DJ SAL $200 CASH PRIZE  9PMFat Tuesday’s - *KARAOKE*Fun
 ny Bone Comedy Club - DJDOYOTHANGGreen Oak Pub - *OPEN MIC*Harry O’s
  – HARRY-OKE 9PM (Ages 25+)Knuckleheads - *KARAOKE*  7PMPoppa’s P
 ub - *KARAOKE* 9:30PMReef Lounge - *KARAOKE*  9PMRetro Cafe - DJ RAW 
 BASE  10PM  *BATTLE OF THE SEXES CORNHOLE TOURNAMENT*Venue 112 - *KA
 RAOKE*FAMILY FUN/SPECIAL EVENTS:Virginia Aquarium – TODDLER TUESDAYS
  11AMVirginia Aquarium - “DISCOVER THE WOODS” WILDLIFE SEARCH  10
 AM-4PM (WEATHER PERMITTING)\n \nBookings can change at the last minut
 e, so we recommend checking with the venue before heading out!CLICK HE
 RE REACH OUR VENUE'S PAGE TO FIND ADDRESSES AND PHONE NUMBERS OF PLACE
 S LISTEDCLICK HERE FOR OUR BAND/DJ PAGE TO FIND DESCRIPTION OF THE BAN
 DS AND LINKS TO THEIR WEB PAGES\n\n\nFor more information visit https:
 //vbnightlife.com/events/click-here-for-tuesday-s-virginia-beach-enter
 tainment-listing
DTSTART:20110906T040000Z
DTEND:20110907T035900Z
CATEGORIES:"virginia beach events", "virginia beach entertainment", "v
 irginia beach bands", "virginia beach djs", "virginia beach family fun
 ", "virginia beach fundraisers"
LOCATION:Virginia Beach
WEBSITE:
URL:
CONTACT:
ORGANIZER:VBnightlife.com / VBdaylife.com
ATTACH;FMTTYPE="image/jpeg":http://storage.ning.com/topology/rest/1.0/
 file/get/1664150531?profile=original
ATTENDEE;ROLE=REQ-PARTICIPANT;PARTSTAT=ACCEPTED;RSVP=TRUE;CN="VBnightl
 ife.com":https://vbnightlife.com/profile/admin
END:VEVENT
END:VCALENDAR
