BEGIN:VCALENDAR
PRODID:NingEventWidget-v1
VERSION:2.0
METHOD:PUBLISH
BEGIN:VEVENT
UID:2508951:Event:313705
DTSTAMP:20260422T105620Z
SUMMARY:Click here for TUESDAY 9/1/15 VIRGINIA BEACH EVENTS AND ENTERT
 AINMENT LISTINGS
DESCRIPTION:Download the new FREE mobile app for Virginia Beach.  Use
  this link to download http://onelink.to/yae3t5 or search VBnightli
 fe in the iTunes or Google Play stores today and get a complete list 
 of events, restaurant recommendations, coupons and more!  \nFeatured
  events\nTinto Wine & Cheese - Hilltop -\"Tuesday @ Tinto\" A Themed 
 Tasting 5 to 8p\nAdventure Park at the Virginia Aquarium - $5 Off Ge
 neral Admission With Promo Code VBLIFE here: http://bit.ly/1FhDqIF\nA
 ssociation for Research and Enlightenment (A.R.E.) Oceanfront - Click 
 for events calendar\nColonial Shooting Academy: Ladies Night All Day 9
 a to 9p 1/2 off Lane Rental\nMuseum of Contemporary Art (MOCA) - Now 
 on Exhibit\nFireworks - Oceanfront - 9:30p (weather permitting)\n\nAll
  Events\n7th St Stage - Anthony Rosano & The Conqueroos 6p\n31st St St
 age - Symphony By the Sea/VSO Concert 7:30p\n34th St Stage - Dahna 
 Rowe 6p\nAbbey Road - Open Mic with host Doug Dunn 8:30p\nBahama Br
 eeze -  4p\nBoneshakers Sports Bar & Grill - 7p\nCalypso Bar & Gril
 l - Atlantic Ave - Borderline Crazy  6p\nEagles Nest - Hilltop - Co
 stume Karaoke 9p\nFroggies - Shore Dr - Open Mic + $4 Draft + shrimp &
  crableg dinner specials  \nGrumpy's - Kempsville - Youtube Video 7p\
 nJerry's Restaurant and Lounge -Chesapeake- Two Wheel & Tip Tuesdays 
 2/$25 Beef Tip Dinner & Happy Hour 'til 9p + Live Music\nKeagans Iris
 h Pub -Town Center- Jack Becker 10p*\nLongshots Billiards & Darts- C
 hesapeake - Karaoke Night\nLunasea - Jesse Chong 10p*\nMurphy's Irish
  Pub - Trivia Night 7p\nRY Lounge - Oceanfront - Electro Tuesday w/ 
 Dj : X-Ray and DJ 401k\nTapped Gastropub - Hilltop - Tapps & Laughs 9
 p\nTempt Restaurant & Lounge - SIN (Service Industry Night): Theme Sp
 ecials - Brian Shultz 9p*\nWing King - Rosemont - Trivia 7p, Karaoke
  9p COUPON\nWing King - Kempsville- Live Music 9p COUPON\nWoody McGee
 's Barstro- Holland Rd - Karaoke w/Paul Bell & Sin Night 9p to Close
 \n\nFor more information visit https://vbnightlife.com/events/click-he
 re-for-tuesday-9-1-15-virginia-beach-events-and-entertain
DTSTART:20150901T040000Z
DTEND:20150902T035900Z
CATEGORIES:"virginia beach", "virginia beach nightlife", "virginia bea
 ch bands", "virginia beach entertainment"
LOCATION:Virginia Beach, VA
WEBSITE:http://VBNIGHTLIFE.COM
URL:http://VBNIGHTLIFE.COM
CONTACT:
ORGANIZER;CN="VBnightlife.com":https://vbnightlife.com/profile/admin
ATTACH;FMTTYPE="image/jpeg":http://storage.ning.com/topology/rest/1.0/
 file/get/1664284182?profile=original
ATTENDEE;ROLE=REQ-PARTICIPANT;PARTSTAT=ACCEPTED;RSVP=TRUE;CN="VBnightl
 ife.com":https://vbnightlife.com/profile/admin
END:VEVENT
END:VCALENDAR
