BEGIN:VCALENDAR
PRODID:NingEventWidget-v1
VERSION:2.0
METHOD:PUBLISH
BEGIN:VEVENT
UID:2508951:Event:312998
DTSTAMP:20260422T105712Z
SUMMARY:Click here for TUESDAY 8/25/15 VIRGINIA BEACH EVENTS AND ENTER
 TAINMENT LISTINGS
DESCRIPTION:Download the new FREE mobile app for Virginia Beach. Â Use
  this link to downloadÂ http://onelink.to/yae3t5Â or searchÂ VBnightli
 feÂ in the iTunes or Google Play stores today and get a complete list 
 of events, restaurant recommendations, coupons and more!Â Â \nFeatured
  events\nTinto Wine & CheeseÂ - Hilltop -\"Tuesday @ Tinto\" A Themed 
 Tasting 5 to 8p\nAdventure ParkÂ at the Virginia AquariumÂ - $5 Off Ge
 neral Admission With Promo Code VBLIFE here:Â http://bit.ly/1FhDqIF\nA
 ssociation for Research and Enlightenment (A.R.E.) Oceanfront - Click 
 for events calendar\nColonial Shooting Academy: Ladies Night All Day 9
 a to 9p 1/2 off Lane Rental\nMuseum of Contemporary Art (MOCA) -Â Now 
 on Exhibit\n\nAll Events\n501 City GrillÂ - Birdneck Road - Happy Hour
  4 to 6:30p\n7th St Stage - Â Power Play 6p\n17th St Stage - 7:30p\n24
 th StreetÂ & BoardwalkÂ -Â Boardwalk Astronomy 6p\n25th St Park -\n31s
 t St Stage - Cheap Thrills 6p\n34th St Stage - Mike Proffitt 6p\nAbbey
  RoadÂ - Open Stage 8:30p\nBahama Breeze -Â  4p\nBoneshakers Sports Ba
 r & GrillÂ -Â 7p\nCalypso Bar & Grill - Atlantic Ave -Â Brent ShepardÂ
  6p\nEagles Nest - Hilltop -Â Costume Karaoke 9p\nFroggies - Shore Dr 
 - Open Mic + $4 Draft + shrimp & crableg dinner specials Â \nGrumpy's 
 - Kempsville - Youtube Video 7p\nJerry's Restaurant and Lounge -Chesap
 eake-Â Two Wheel & Tip Tuesdays 2/$25 Beef Tip Dinner & Happy HourÂ 't
 il 9p + Live Music w/ Shake & Bake 7p\nKeagans Irish PubÂ -Town Center
 -Â Jack Becker 10p*\nLongshots Billiards & Darts- Chesapeake - Karaoke
  Night\nLunasea -Â Jesse Chong 10p*\nMurphy's Irish PubÂ - Trivia Nigh
 tÂ 7p\nRY Lounge - Oceanfront - Electro Tuesday w/ Dj : X-Ray and DJ 4
 01k\nTapped GastropubÂ - Hilltop - Tapps & Laughs 9p\nTempt Restaurant
  & Lounge - SIN (Service Industry Night):Â Theme SpecialsÂ -Â Brian Sh
 ultz 9p*\nWing King - Rosemont - Trivia 7p, Karaoke 9p COUPON\nWing Ki
 ng - Kempsville-Â Wasted PresleyÂ 9pÂ COUPON\nWoody McGee's Barstro-Â 
 Holland Rd - Karaoke w/Paul BellÂ & Sin Night 9p to Close\n\nFor more 
 information visit https://vbnightlife.com/events/click-here-for-tuesda
 y-8-25-15-virginia-beach-events-and-entertai
DTSTART:20150825T040000Z
DTEND:20150826T035900Z
CATEGORIES:"virginia beach", "virginia beach nightlife", "virginia bea
 ch bands", "virginia beach entertainment"
LOCATION:Virginia Beach, VA
WEBSITE:http://VBNIGHTLIFE.COM
URL:http://VBNIGHTLIFE.COM
CONTACT:
ORGANIZER;CN="VBnightlife.com":https://vbnightlife.com/profile/admin
ATTACH;FMTTYPE="image/jpeg":http://storage.ning.com/topology/rest/1.0/
 file/get/1664284222?profile=original
ATTENDEE;ROLE=REQ-PARTICIPANT;PARTSTAT=ACCEPTED;RSVP=TRUE;CN="VBnightl
 ife.com":https://vbnightlife.com/profile/admin
END:VEVENT
END:VCALENDAR
