BEGIN:VCALENDAR
PRODID:NingEventWidget-v1
VERSION:2.0
METHOD:PUBLISH
BEGIN:VEVENT
UID:2508951:Event:227717
DTSTAMP:20260421T211148Z
SUMMARY:Click here for TUESDAY 8/20/13 VIRGINIA BEACH ENTERTAINMENT LI
 STINGS
DESCRIPTION:LIVE ENTERTAINMENT/ DJâ€™S/ KARAOKE:\n7th Street Stage- DJ
  Joe Fu 6pm-10pm\n24th Street Stage- US Fleet Forces Band Four Star Ed
 ition 8pm-10pm\n31st Street Stage- Cover This 6pm-10pm\nAbbey Rd- Open
  Stage\nBahama Breeze- Trevor Phillip 5pm-8pm, Bob Linsly 8pm-11pm\nBa
 yside Inn- Acoustic Music Expo & Open Mic 8:30pm\nCactus JacksÂ â€“ Ja
 cob Vanko 4pm-7pm\nCalypso- Red Stapler Trio 6pm\nFinn McCools- Karaok
 e 9:30pm\nFroggies- Open Mic Night\nIl Giardino's- Reginald Blackwell 
 6:30pm-10:30pm\nKeagans Town Center- Jack Becker\nRock FishÂ -The Dude
 s 7pm\nSandbridge Island Grill- Karaoke 9pm\nTemptÂ â€“ SIN Night Ft. 
 Ryan Hines\nTortugas- Jack Becker 6pm-9pm\nWing King Rosemont Rd.- Kar
 aoke 10pm\nWoody McGees BarstroÂ â€“ Karaoke\nZest- Mike DeMoss 8pm\nÂ
  \nSPECIAL EVENTS/CONCERTS/ FESTIVALS:\nCoastal Edge Surfing Champions
 hip - Professional and Amateur Surfing begins at 7am at 2nd street- Â 
 OceanfrontÂ \nLess Than Jake & Badfish: A Tribute to Sublime- The Norv
 a\nCircus in the Park- 17th Street Park 7:30pm-10pm\nThe Wreck of the 
 Dictator- 25th Street Park 8:30pm-10:30pm\nThe Witch of Pungo- 27th St
 reet Park 8:30pm-10:30pm\nCirquesa Dreamquest- Rudee Inlet Loop 7:30pm
 \nÂ \nCLICK HERE FOR THE BEST DEALS & COUPONSÂ IN VIRGINIA BEACH FEATU
 RING EXCLUSIVE BARGAINS\nÂ \nCLICK HERE FOR HAPPY HOUR DEALS FEATURING
  SEVERAL LOCAL RESTAURANTS DAILY SPECIALS\nÂ \nCLICK HERE REACH OUR VE
 NUE'S PAGEÂ TO FIND ADDRESSES AND PHONE NUMBERS OF PLACES LISTED\nÂ \n
 CLICK HERE FOR OUR BAND/DJ PAGEÂ TO FIND DESCRIPTION OF THE BANDS AND 
 LINKS TO THEIR WEB PAGES\n\nFor more information visit https://vbnight
 life.com/events/click-here-for-tuesday-8-20-13-virginia-beach-entertai
 nment-listi
DTSTART:20130820T040000Z
DTEND:20130821T035900Z
CATEGORIES:"virginia beach", "virginia beach nightlife", "virginia bea
 ch bands", "virginia beach entertainment"
LOCATION:Virginia Beach, VA
WEBSITE:
URL:
CONTACT:
ORGANIZER;CN="VBnightlife.com":https://vbnightlife.com/profile/admin
ATTACH;FMTTYPE="image/jpeg":http://storage.ning.com/topology/rest/1.0/
 file/get/1664196872?profile=original
ATTENDEE;ROLE=REQ-PARTICIPANT;PARTSTAT=ACCEPTED;RSVP=TRUE;CN="VBnightl
 ife.com":https://vbnightlife.com/profile/admin
END:VEVENT
END:VCALENDAR
