BEGIN:VCALENDAR
PRODID:NingEventWidget-v1
VERSION:2.0
METHOD:PUBLISH
BEGIN:VEVENT
UID:2508951:Event:199677
DTSTAMP:20260420T010552Z
SUMMARY:Click here for TUESDAY 7/17/12 VIRGINIA BEACH ENTERTAINMENT LI
 STINGS
DESCRIPTION:LIVE ENTERTAINMENT\n7th Street Stage- Pridemore, 6-10PM\n1
 3th Street- Playlist, 7PM,8PM,9PM\n17th Street Park- Circus in the Par
 k, 7:30PM,8:30PM,9:30PM\nOld Coast Guard Station- Shipwrecks and Ghost
 lore, 7:30-9PM\n20th Street Park- Weekly Displays, 10PM\n24th Street P
 ark- US Fleet Forces Band, 4 Star Edition, 8-9:30PM\n25th Street- Wre
 ck of the Dictator, 8:30PM, 9:15PM, 10PM\n27th Street Park- The Witch 
 of Pungo, 8:30PM, 9:15PM, 10PM\n31st Street Stage- Vinyl Headlights, 6
 -10PM\nAbbey Road- Open Stage, 9PM\nAdams- Mackin' Music Tuesdays w/ S
 uzy B Taylor, 9PM (Every Tuesday)\nCabo- College Night w/Z104 (Every T
 uesday)\nCalypso- Sprout, 6PM\nH20- Brandon Bower, 8-11PM\nHavanah Nig
 hts- Woody Beckner Duo, 8-11PM\nJohnny Mananas- Victoria Sachar, 1-4PM
 \nJewish Mother- Anders Osbourne & Seth Stainback\nKeagans- Jack Becke
 r, 10PM\nKnuckleheads- Open Mic w/ Heather & Nathan, 7-11PM\nLunasea- 
 Jesse Chong, 10PM\nLa Casa Rana- Open Mic\nLighthouse- Blackwater Jam\
 nRetro Cafe- Live Entertainment\nTayst- Sin Night featuring Dave Derr
 ing\n \nTHEATRES/FUNDRAISERS/CONCERTS/SPORTS\n \nFAMILY FUN/SPECIAL 
 EVENTS:\nVirginia MOCA- Andy Warhol\n15th Street Raw Bar- Pool Tourna
 ment, 8PM\nDiesel- Weekly Beer Pong Tournament, 8PM\nCinema Cafe- $1 M
 ovie Tuesdays\nMurphys- Pub Triva, 7PM\n \nDJ’S/KARAOKE/DANCES:\nSe
 crets- Karaoke w/ El Mike, 9PM-1AM\nWoody McGees- Karaoke, 9PM\nWannaB
 's- KARAOKE 7 PM - 2 AM  Monday - Saturday (21 and Older)\nCLICK HERE
  FOR HAPPY HOUR DEALS\nCLICK HERE REACH OUR VENUE'S PAGE TO FIND ADDR
 ESSES AND PHONE NUMBERS OF PLACES LISTED\nCLICK HERE FOR OUR BAND/DJ P
 AGE TO FIND DESCRIPTION OF THE BANDS AND LINKS TO THEIR WEB PAGES\n\n
 For more information visit https://vbnightlife.com/events/click-here-f
 or-tuesday-7-17-12-virginia-beach-entertainment-listi
DTSTART:20120717T040000Z
DTEND:20120718T035900Z
CATEGORIES:"virginia beach entertainment", "virginia beach nightlife",
  "virginia beach bands"
LOCATION:Virginia Beach
WEBSITE:
URL:
CONTACT:
ORGANIZER:VBnightlife.com (Dionna Campanella)
ATTACH;FMTTYPE="image/jpeg":http://storage.ning.com/topology/rest/1.0/
 file/get/1664173299?profile=original
ATTENDEE;ROLE=REQ-PARTICIPANT;PARTSTAT=ACCEPTED;RSVP=TRUE;CN="VBnightl
 ife.com":https://vbnightlife.com/profile/admin
END:VEVENT
END:VCALENDAR
