BEGIN:VCALENDAR
PRODID:NingEventWidget-v1
VERSION:2.0
METHOD:PUBLISH
BEGIN:VEVENT
UID:2508951:Event:312329
DTSTAMP:20260424T105018Z
SUMMARY:Click here for TUESDAY 7/14/15 VIRGINIA BEACH EVENTS AND ENTER
 TAINMENT LISTINGS
DESCRIPTION:Download the new FREE mobile app for Virginia Beach.  Use
  this link to download http://onelink.to/yae3t5 or search VBnightli
 fe in the iTunes or Google Play stores today and get a complete list 
 of events, restaurant recommendations, coupons and more!  \nFeatured
  events \nTinto Wine & Cheese - Hilltop -\"Tuesday @ Tinto\" A Theme
 d Tasting 5 to 8p\nAdventure Park at the Virginia Aquarium - $5 Off 
 General Admission With Promo Code VBLIFE here: http://bit.ly/1FhDqIF\
 nAssociation for Research and Enlightenment (A.R.E.) Oceanfront - Clic
 k for events calendar\nColonial Shooting Academy Ladies Night All Day 
 9a to 9p 1/2 off Lane Rental\nMuseum of Contemporary Art (MOCA) Now o
 n Exhibit\nAll Events\n501 City Grill - Birdneck Road - Happy Hour 4 
 to 6:30p\n7th Street Stage - Anthony Rosano & The Conqueroos 6p\n17
 th Street Stage - Circus in the Park 7:30p\n24th Street Park - US Flee
 t Forces Band Four Star Edition 8p\n25th Street Park - Aviators & Afte
 rburners: A Naval Airpower Legacy 8:45p\n27th Street & Boardwalk - The
  Witch of Pungo 8:30p\n31st Street Stage - Cheap Thrills 6p\n34th S
 treet Stage - Jacob Vanko 6p\nAbbey Road - Open Stage  8:30p\nBaham
 a Breeze Island Grille - Dustin Furlow 4p\nBoneshakers Sports Bar & Gr
 ill - 7p\nCalypso Bar & Grill - Atlantic Ave - Steven Forss 6p\nEagl
 es Nest - Hilltop - Costume Karaoke 9p\nFroggies - Shore Dr - Open Mic
  + $4 Draft + shrimp & crableg dinner specials  \nGrumpy's - Kempsvil
 le - Youtube Video 7p\nJerry's Restaurant and Lounge - Chesapeake - T
 wo Wheel Tuesdays 6 to 10p  Get your 1/2 price voucher here: www.VBh
 otdeals.com\nKeagans Irish Pub -Town Center- Jack Becker 10p*\nLongs
 hots Billiards & Darts- Chesapeake - Karaoke Night\nLunasea - Jesse C
 hong 10p*\nMurphy's Irish Pub - Trivia Night 7p\nRY Lounge - Oceanfr
 ont - Electro Tuesday w/ Dj : X-Ray and DJ 401k\nTempt Restaurant & Lo
 unge - SIN (Service Industry Night): July is American Theme Specials 
 - 9p*\nWing King - Rosemont - Trivia 7p, Karaoke 9p COUPON\nWing King
  - Kempsville -  9p COUPON\nWoody McGee's Barstro - Holland Rd - K
 araoke w/Paul Bell & Sin Night 9p to Close\n\nFor more information vi
 sit https://vbnightlife.com/events/click-here-for-tuesday-7-14-15-virg
 inia-beach-events-and-entertai
DTSTART:20150714T040000Z
DTEND:20150715T035900Z
CATEGORIES:"virginia beach", "virginia beach nightlife", "virginia bea
 ch bands", "virginia beach entertainment"
LOCATION:Virginia Beach, VA
WEBSITE:http://VBNIGHTLIFE.COM
URL:http://VBNIGHTLIFE.COM
CONTACT:
ORGANIZER;CN="VBnightlife.com":https://vbnightlife.com/profile/admin
ATTACH;FMTTYPE="image/jpeg":http://storage.ning.com/topology/rest/1.0/
 file/get/1664275344?profile=original
ATTENDEE;ROLE=REQ-PARTICIPANT;PARTSTAT=ACCEPTED;RSVP=TRUE;CN="VBnightl
 ife.com":https://vbnightlife.com/profile/admin
END:VEVENT
END:VCALENDAR
