BEGIN:VCALENDAR
PRODID:NingEventWidget-v1
VERSION:2.0
METHOD:PUBLISH
BEGIN:VEVENT
UID:2508951:Event:199653
DTSTAMP:20260422T224852Z
SUMMARY:Click here for TUESDAY 7/10/12 VIRGINIA BEACH ENTERTAINMENT LI
 STINGS
DESCRIPTION:LIVE ENTERTAINMENT\n7th Street Stage- Quattro, 6-10PM\n13t
 h Street- Playlist, 7PM,8PM,9PM\n17th Street Park- Special Trapeze Cir
 cus, 7:30PM,8:30PM,9:30PM\nOld Coast Guard Station- Shipwrecks and Gho
 stlore, 7:30-9PM\n20th Street Park- Weekly Displays, 10PM\n24th Street
  Park- US Fleet Forces Band, 4 Star Edition,Â 8-9:30PM\n25th Street- W
 reck of the Dictator, 8:30PM, 9:15PM, 10PM\n27th Street Park- The Witc
 h of Pungo, 8:30PM, 9:15PM, 10PM\n31st Street Stage- Suzy and The Natu
 rals, 6-10PM\nAbbey Road- Open Stage, 9PM\nAdams- Mackin' Music Tuesda
 ys w/ Suzy B Taylor, 9PM (Every Tuesday)\nCabo- College Night w/Z104 (
 Every Tuesday)\nCalypso- Billy Joe Trio, 6PM\nH20- Brandon Bower, 8-11
 PM\nHavanah Nights- Woody Beckner Duo, 8-11PM\nKeagans- Jack Becker, 1
 0PM\nKnuckleheads- Open Mic w/ Heather & Nathan, 7-11PM\nLunasea- Jess
 e Chong, 10PM\nLa Casa Rana- Open Mic\nLighthouse- Blackwater Jam, 8-1
 1PM\nRetro Cafe- Live Entertainment\nStringers- Victoria Sachar, 8-11P
 M\nTayst-Â Sin Night featuring Dave Derring\nÂ \nTHEATRES/FUNDRAISERS/
 CONCERTS/SPORTS\nNorva- Zappa plays Zappa\nÂ \nFAMILY FUN/SPECIAL EVEN
 TS:\nVirginia MOCA- Andy Warhol\n15th Street Raw Bar-Â Pool Tournament
 , 8PM\nDiesel- Weekly Beer Pong Tournament, 8PM\nCinema Cafe- $1 Movie
  Tuesdays\nMurphys- Pub Triva, 7PM\nÂ \nDJâ€™S/KARAOKE/DANCES:\nSecret
 s- Karaoke w/ El Mike, 9PM-1AM\nWoody McGees- Karaoke, 9PM\nWannaB's- 
 KARAOKE 7 PM - 2 AMÂ  Monday - Saturday (21 and Older)\nCLICK HERE FOR
  HAPPY HOUR DEALS\nCLICK HERE REACH OUR VENUE'S PAGEÂ TO FIND ADDRESSE
 S AND PHONE NUMBERS OF PLACES LISTED\nCLICK HERE FOR OUR BAND/DJ PAGEÂ
  TO FIND DESCRIPTION OF THE BANDS AND LINKS TO THEIR WEB PAGES\n\nFor 
 more information visit https://vbnightlife.com/events/click-here-for-t
 uesday-7-10-12-virginia-beach-entertainment-listi
DTSTART:20120710T040000Z
DTEND:20120711T035900Z
CATEGORIES:"virginia beach entertainment", "virginia beach nightlife"
LOCATION:Virginia Beach
WEBSITE:
URL:
CONTACT:
ORGANIZER:VBnightlife.com (Dionna Campanella)
ATTACH;FMTTYPE="image/jpeg":http://storage.ning.com/topology/rest/1.0/
 file/get/1664172897?profile=original
ATTENDEE;ROLE=REQ-PARTICIPANT;PARTSTAT=ACCEPTED;RSVP=TRUE;CN="VBnightl
 ife.com":https://vbnightlife.com/profile/admin
END:VEVENT
END:VCALENDAR
