BEGIN:VCALENDAR
PRODID:NingEventWidget-v1
VERSION:2.0
METHOD:PUBLISH
BEGIN:VEVENT
UID:2508951:Event:286919
DTSTAMP:20260423T165256Z
SUMMARY:Click here for TUESDAY 6/3/14 VIRGINIA BEACH ENTERTAINMENT LIS
 TINGS
DESCRIPTION:LIVE ENTERTAINMENT/ DJ’S/ KARAOKE:  17TH Street Stage -
  Tiki Bar Band 8pm\nAbbey Road - Open Stage \nBahama Breeze - Mike De
 Moss 5 to 11pm\nLunasea - Jesse Chong 10pm\nKeagan's - Jack Becker 10p
 m \nPoppa's Pub -  OPEN MIC /w \"USED MUSIC\" 7-10:30pm\n\nSPECIAL E
 VENTS:\nMOUNT TRASHMORE CARNIVAL\n \nClick Here for VBhotdeals featu
 ring deals of 50 to 90% off your favorites restaurants, events and mor
 e\n\nClick Here for VBhotcoupons featuring FREE click and print coupo
 ns\n \nCLICK HERE FOR HAPPY HOUR DEALS FEATURING SEVERAL LOCAL RESTA
 URANTS DAILY SPECIALS\n \nCLICK HERE REACH OUR VENUE'S PAGE TO FIND 
 ADDRESSES AND PHONE NUMBERS OF PLACES LISTED\n \nCLICK HERE FOR OUR B
 AND/DJ PAGE TO FIND DESCRIPTION OF THE BANDS AND LINKS TO THEIR WEB P
 AGES\n \n \n\nFor more information visit https://vbnightlife.com/eve
 nts/click-here-for-tuesday-6-3-14-virginia-beach-entertainment-listin
DTSTART:20140603T040000Z
DTEND:20140604T035900Z
CATEGORIES:"virginia beach", "virginia beach nightlife", "virginia bea
 ch bands"
LOCATION:Virginia Beach, VA
WEBSITE:
URL:
CONTACT:
ORGANIZER;CN="VBnightlife.com":https://vbnightlife.com/profile/admin
ATTACH;FMTTYPE="image/jpeg":http://storage.ning.com/topology/rest/1.0/
 file/get/1664192698?profile=original
ATTENDEE;ROLE=REQ-PARTICIPANT;PARTSTAT=ACCEPTED;RSVP=TRUE;CN="VBnightl
 ife.com":https://vbnightlife.com/profile/admin
END:VEVENT
END:VCALENDAR
