BEGIN:VCALENDAR
PRODID:NingEventWidget-v1
VERSION:2.0
METHOD:PUBLISH
BEGIN:VEVENT
UID:2508951:Event:195414
DTSTAMP:20260423T091042Z
SUMMARY:Click here for TUESDAY 6/12/12 VIRGINIA BEACH ENTERTAINMENT LI
 STINGS
DESCRIPTION:LIVE ENTERTAINMENT\n17th Street Park- The Office, 8-10:30P
 M\nAbbey Road- Open Stage, 9PM\nAdams- Mackin' Music Tuesdays w/ Suzy 
 B Taylor, 9PM (Every Tuesday)\nCabo- College Night w/Z104 (Every Tuesd
 ay)\nCalypso- Monkeybooty, 6-10PM\nH20- Brandon Bower, 8PM\nHavanah Ni
 ghts- Woody Beckner Duo, 8-11PM\nKeagans- Jack Becker, 10PM\nLunasea- 
 Jesse Chong, 10PM\nLa Casa Rana- Open Mic\nLighthouse- Blackwater Jam\
 nRetro Cafe- Cheap Thrills\nTayst- Sin Night featuring Dave Derring\n
 Woody McGees- Frank and Marah, 9:30PM-12:30AM\n\nFAMILY FUN/SPECIAL EV
 ENTS:\nVirginia MOCA- Andy Warhol\n15th Street Raw Bar- Pool Tourname
 nt, 8PM\nOpSail 2012\nCarnival at Mt. Trashmore\nDiesel- Weekly Beer P
 ong Tournament, 8PM\nCinema Cafe- $1 Movie Tuesdays\nMurphys- Pub Triv
 a, 7PM\n\nDJ’S/KARAOKE/DANCES:\nCabo- DJ Bryan One & Tias, 9PM\nPopp
 a’s Pub - *KARAOKE* 9:30PM\nSecrets- Karaoke w/ El Mike, 9PM-1AM\nWo
 ody McGees- Karaoke, 9PM\nWannaB's- KARAOKE 7 PM - 2 AM  Monday - Sat
 urday (21 and Older)\nCLICK HERE FOR HAPPY HOUR DEALS\nCLICK HERE REAC
 H OUR VENUE'S PAGE TO FIND ADDRESSES AND PHONE NUMBERS OF PLACES LIST
 ED\nCLICK HERE FOR OUR BAND/DJ PAGE TO FIND DESCRIPTION OF THE BANDS 
 AND LINKS TO THEIR WEB PAGES\n\nFor more information visit https://vbn
 ightlife.com/events/click-here-for-tuesday-6-12-12-virginia-beach-ente
 rtainment-listi
DTSTART:20120612T040000Z
DTEND:20120613T035900Z
CATEGORIES:"virginia beach entertainment", "virginia beach bands", "vi
 rginia beach nightlife"
LOCATION:Virginia Beach
WEBSITE:
URL:
CONTACT:
ORGANIZER:VBnightlife.com (Dionna Campanella)
ATTACH;FMTTYPE="image/jpeg":http://storage.ning.com/topology/rest/1.0/
 file/get/1664168844?profile=original
ATTENDEE;ROLE=REQ-PARTICIPANT;PARTSTAT=ACCEPTED;RSVP=TRUE;CN="VBnightl
 ife.com":https://vbnightlife.com/profile/admin
END:VEVENT
END:VCALENDAR
