BEGIN:VCALENDAR
PRODID:NingEventWidget-v1
VERSION:2.0
METHOD:PUBLISH
BEGIN:VEVENT
UID:2508951:Event:213072
DTSTAMP:20260424T130650Z
SUMMARY:Click here for TUESDAY 4/9/13 VIRGINIA BEACH ENTERTAINMENT LIS
 TINGS
DESCRIPTION:\nLIVE ENTERTAINMENT/ DJ’S/ KARAOKE:\nAbbey Rd- Open Sta
 ge Unplugged\nBayside Bar- Hot 100.5 \nBayside Inn- Acoustic & Vocal 
 Musicians Expo & Open Mic\nFinn McCools- Karaoke 9:30pm\nIl Giardino's
  – Reginald Blackwell\nKeagans- Jack Becker 10pm\nLunaSea- Jesse Cho
 ng\nTempt -SIN Night ft. Ryan Hines\nWing King Rosemont Rd- Karaoke 9p
 m\nWoody McGees Barstro - Karaoke\n \nSPECIAL EVENTS/CONCERTS/ FESTIV
 ALS:\nVirginia Stage Company’s The Odd Couple – Wells Theatre\n \
 nCLICK HERE FOR HAPPY HOUR DEALS FEATURING SEVERAL LOCAL RESTAURANTS D
 AILY SPECIALS\n \nCLICK HERE REACH OUR VENUE'S PAGE TO FIND ADDRESSE
 S AND PHONE NUMBERS OF PLACES LISTED\n \nCLICK HERE FOR OUR BAND/DJ P
 AGE TO FIND DESCRIPTION OF THE BANDS AND LINKS TO THEIR WEB PAGES\n\n
 For more information visit https://vbnightlife.com/events/click-here-f
 or-tuesday-4-9-13-virginia-beach-entertainment-listin
DTSTART:20130409T220000Z
DTEND:20130409T230000Z
CATEGORIES:"virginia beach", "virginia beach nightlife", "virginia bea
 ch bands"
LOCATION:Virginia Beach, VA
WEBSITE:
URL:
CONTACT:
ORGANIZER;CN="VBnightlife.com":https://vbnightlife.com/profile/admin
ATTACH;FMTTYPE="image/jpeg":http://storage.ning.com/topology/rest/1.0/
 file/get/1664187872?profile=original
ATTENDEE;ROLE=REQ-PARTICIPANT;PARTSTAT=ACCEPTED;RSVP=TRUE;CN="VBnightl
 ife.com":https://vbnightlife.com/profile/admin
END:VEVENT
END:VCALENDAR
