BEGIN:VCALENDAR
PRODID:NingEventWidget-v1
VERSION:2.0
METHOD:PUBLISH
BEGIN:VEVENT
UID:2508951:Event:334299
DTSTAMP:20260422T144615Z
SUMMARY:Click here for TUESDAY 3/8/16 VIRGINIA BEACH EVENTS AND ENTERT
 AINMENT LISTINGS
DESCRIPTION:Download the new FREE mobile app for Virginia Beach.  Use
  this link to download http://onelink.to/yae3t5 or search VBnightli
 fe in the iTunes or Google Play stores today and get a complete list 
 of events, restaurant recommendations, coupons and more!  \n\nFeatur
 ed events\nTinto Wine & Cheese - Hilltop -\"Tuesday @ Tinto\" A Theme
 d Tasting 5 to 8p\nColonial Shooting Academy: Ladies Night All Day 9a 
 to 9p 1/2 off Lane Rental\nMuseum of Contemporary Art (MOCA) - Now on
  Exhibit\n\nAll Events\nAbbey Road - Open Stage with Doug Dunn 8:30p\
 nBella Monte Restaurant & Enoteca - 1201 Laskin Rd - Happy Hour at 
 the bar 4 to 6 daily\nEagles Nest - Hilltop - Karaoke Night w/Nathan F
 irth 7p\nFroggies - Shore Dr - Open Mic 7p\nGrumpy's - Kempsville - DJ
  Kofi 7p\nJerry's Restaurant and Lounge -Chesapeake- Two Wheel & Tip 
 Tuesdays 2/$25 Beef Tip Dinner & Happy Hour 'til 9p + TNT Karaoke\nKe
 agans Irish Pub -Town Center- Jack Becker 10p*\nLongshots Billiards 
 & Darts- Chesapeake - Karaoke Night & Pool Tournament\nLunasea - Jess
 e Chong 10p*\nMurphy's Irish Pub - Trivia Night 7p\nRY Lounge - Ocea
 nfront - Electro Tuesday w/ Dj : X-Ray and DJ 401k\nTapped Gastropub 
 - Hilltop - Tapps & Laughs 9p\nTempt Restaurant & Lounge - SIN (Servic
 e Industry Night): Theme Specials - Ryan Hines 8:30pm\nWing King - 
 Rosemont - Trivia 7p, Karaoke 9:30p COUPON\nWing King - Kempsville - B
 ryan Dunn 8p  COUPON\nWoody McGee's Barstro- Holland Road - Karaoke 
 w/Rotating Astros KJs & Service Industry Specials 9p to Close\n\nFor 
 more information visit https://vbnightlife.com/events/click-here-for-t
 uesday-3-8-16-virginia-beach-events-and-entertain
DTSTART:20160308T050000Z
DTEND:20160309T045900Z
CATEGORIES:"virginia beach", "virginia beach nightlife", "virginia bea
 ch bands", "virginia beach entertainment"
LOCATION:Virginia Beach, VA
WEBSITE:http://VBNIGHTLIFE.COM
URL:http://VBNIGHTLIFE.COM
CONTACT:
ORGANIZER:VBnightlife.com / VBdaylife.com / VBhotdeals.com
ATTACH;FMTTYPE="image/jpeg":http://storage.ning.com/topology/rest/1.0/
 file/get/1664304267?profile=original
ATTENDEE;ROLE=REQ-PARTICIPANT;PARTSTAT=ACCEPTED;RSVP=TRUE;CN="VBnightl
 ife.com":https://vbnightlife.com/profile/admin
END:VEVENT
END:VCALENDAR
