BEGIN:VCALENDAR
PRODID:NingEventWidget-v1
VERSION:2.0
METHOD:PUBLISH
BEGIN:VEVENT
UID:2508951:Event:189596
DTSTAMP:20260423T065538Z
SUMMARY:Click here for TUESDAY 2/28/12 VIRGINIA BEACH ENTERTAINMENT LI
 STING
DESCRIPTION:LIVE ENTERTAINMENT\n15th Street Raw Bar- Pool Tournament, 
 8PM\nAbbey Road- Open Stage\nCinema Cafe- $1 Movie Tuesdays\nDiesel- W
 eekly Beer Pong Tournament, 8PM\nH20- Brandon Bower\nHavanah Nights- C
 hris Brydge- 8-11PM\nIL Giardino- Spayghetti Dinner\nJewish Mother- Ma
 tes of State\nKeagans- Jack Becker, 10PM\nLunasea- Jesse Chong\nMurphy
 s- Pub Triva, 7PM\nThe Boxx- Cheap Shots, Punk Anthems (every other T
 uesday) \n\nTHEATRE/FUNDRAISERS/CONCERTS/SPORTS:\nFunny Bone Comedy C
 lub - Clash of the Comics- Mar. 13th\nHarbor Park- Death of a Salesman
 , 7PM\nChrysler Hall- Frank Deford\n\nDJ’S/KARAOKE/DANCES:\nRetro Ca
 fe- Karaoke\nCabo- DJ Bryan One & Tias, 9PM\nChicho’s 29th - *KARAOK
 E\nGeared Up- Karaoke\nPoppa’s Pub - *KARAOKE* 9:30PM\nJewish Mother
 - MOMS KARAOKE 8pm\nStarz- Karaoke\nWannaB's- KARAOKE 7 PM - 2 AM  Mo
 nday - Saturday (21 and Older)\n\nHAPPY HOUR:\nCLICK HERE FOR HAPPY HO
 UR DEALS\nCLICK HERE REACH OUR VENUE'S PAGE TO FIND ADDRESSES AND PHO
 NE NUMBERS OF PLACES LISTED\nCLICK HERE FOR OUR BAND/DJ PAGE TO FIND 
 DESCRIPTION OF THE BANDS AND LINKS TO THEIR WEB PAGES\nBookings can ch
 ange at the last minute, so we recommend checking with the venue befor
 e heading out!\n\nFor more information visit https://vbnightlife.com/e
 vents/click-here-for-tuesday-2-28-12-virginia-beach-entertainment-list
 i
DTSTART:20120228T050000Z
DTEND:20120229T045900Z
CATEGORIES:"virginia beach entertainment", "virginia beach bands", "vi
 rginia beach nightlife"
LOCATION:Virginia Beach
WEBSITE:
URL:
CONTACT:
ORGANIZER;CN="VBnightlife.com":https://vbnightlife.com/profile/admin
ATTACH;FMTTYPE="image/jpeg":http://storage.ning.com/topology/rest/1.0/
 file/get/1664162960?profile=original
ATTENDEE;ROLE=REQ-PARTICIPANT;PARTSTAT=ACCEPTED;RSVP=TRUE;CN="VBnightl
 ife.com":https://vbnightlife.com/profile/admin
END:VEVENT
END:VCALENDAR
