BEGIN:VCALENDAR
PRODID:NingEventWidget-v1
VERSION:2.0
METHOD:PUBLISH
BEGIN:VEVENT
UID:2508951:Event:210973
DTSTAMP:20260421T081313Z
SUMMARY:Click here for TUESDAY 2/26/12 VIRGINIA BEACH ENTERTAINMENT LI
 STINGS
DESCRIPTION:LIVE ENTERTAINMENT/ DJ’S/ KARAOKE:\nAbbey Rd- Open Mic\n
 Bayside Bar & Grill- Hot 100.5 Party Night ft. DJ Chase\nBayside Inn- 
 Acoustic and Vocal Musicians EXPO and Open Mic with Christina Malubag\
 nFinn McCools- Karaoke\nKeagans- Jack Becker\nIl Giardino's -  Regina
 ld Blackwell\nLunaSea- Jesse Chong 10pm\nRetro Café- Open Mic Night\n
 Woody McGees Barstro -Karaoke\n \nSPECIAL EVENTS/CONCERTS/ FESTIVALS:
 \n52 Weeks of Music In Hampton Roads- The Norva\nDate Night & Hello Ag
 ain Workshop-MOCA\n \nCLICK HERE FOR HAPPY HOUR DEALS FEATURING SEVER
 AL LOCAL RESTAURANTS DAILY SPECIALS\n \nCLICK HERE REACH OUR VENUE'S 
 PAGE TO FIND ADDRESSES AND PHONE NUMBERS OF PLACES LISTED\n \nCLICK 
 HERE FOR OUR BAND/DJ PAGE TO FIND DESCRIPTION OF THE BANDS AND LINKS 
 TO THEIR WEB PAGES\n\nFor more information visit https://vbnightlife.c
 om/events/click-here-for-tuesday-2-26-12-virginia-beach-entertainment-
 listi
DTSTART:20130226T050000Z
DTEND:20130227T045900Z
CATEGORIES:"virginia beach", "virginia beach nightlife", "virginia bea
 ch bands"
LOCATION:Virginia Beach, VA
WEBSITE:
URL:
CONTACT:
ORGANIZER;CN="VBnightlife.com":https://vbnightlife.com/profile/admin
ATTACH;FMTTYPE="image/jpeg":http://storage.ning.com/topology/rest/1.0/
 file/get/1664184779?profile=original
ATTENDEE;ROLE=REQ-PARTICIPANT;PARTSTAT=ACCEPTED;RSVP=TRUE;CN="VBnightl
 ife.com":https://vbnightlife.com/profile/admin
END:VEVENT
END:VCALENDAR
