BEGIN:VCALENDAR
PRODID:NingEventWidget-v1
VERSION:2.0
METHOD:PUBLISH
BEGIN:VEVENT
UID:2508951:Event:188959
DTSTAMP:20260423T083236Z
SUMMARY:Click here for TUESDAY 2/21/12 VIRGINIA BEACH ENTERTAINMENT LI
 STING
DESCRIPTION:LIVE ENTERTAINMENT\n15th Street Raw Bar- Pool Tournament, 
 8PM\nAbbey Road- Open Stage\nCinema Cafe- $1 Movie Tuesdays\nDiesel- W
 eekly Beer Pong Tournament, 8PM\nH20- Brandon Bower\nHavanah Nights- W
 oody Beckner Duo- 8-11PM\nJewish Mother- Mates of State\nKeagans- Jack
  Becker, 10PM\nKnuckleheads- Spider Love\nLunasea- Jesse Chong\nMurphy
 s- Pub Triva, 7PM\nShakas- Anabell is Absent\n\nTHEATRE/FUNDRAISERS/CO
 NCERTS/SPORTS:\nGuads (Town Center)- 3rd Annual Mardi Gras Party. 5-10
 PM (Dedicated to the memory of Warren Seaburg. Benefit for American Ca
 ncer Society & Relay for Life.Tickes, $15- $25 advance, $24 advance, 
 couple, $20 at door)\nFunny Bone Comedy Club - Clash of the Comics- Ma
 r. 13th\nHarbor Park- Death of a Salesman, 7PM\nGuads (Town Center)- J
 oe Maniscalco (Benefit)\n\nDJ’S/KARAOKE/DANCES:\nRetro Cafe- Karaoke
 \nCabo- DJ Bryan One & Tias, 9PM\nChicho’s 29th - *KARAOKE\nGeared U
 p- Karaoke\nPoppa’s Pub - *KARAOKE* 9:30PM\nJewish Mother- MOMS KARA
 OKE 8pm\nStarz- Karaoke\nWannaB's- KARAOKE 7 PM - 2 AM  Monday - Satu
 rday (21 and Older)\n\nHAPPY HOUR:\nCLICK HERE FOR HAPPY HOUR DEALS\nC
 LICK HERE REACH OUR VENUE'S PAGE TO FIND ADDRESSES AND PHONE NUMBERS 
 OF PLACES LISTED\nCLICK HERE FOR OUR BAND/DJ PAGE TO FIND DESCRIPTION
  OF THE BANDS AND LINKS TO THEIR WEB PAGES\nBookings can change at the
  last minute, so we recommend checking with the venue before heading o
 ut!\n\nFor more information visit https://vbnightlife.com/events/click
 -here-for-tuesday-2-21-12-virginia-beach-entertainment-listi
DTSTART:20120221T050000Z
DTEND:20120222T045900Z
CATEGORIES:"virginia beach enertainment", "virginia beach bands", "vir
 ginia beach nightlife"
LOCATION:Virginia Beach
WEBSITE:
URL:
CONTACT:
ORGANIZER;CN="VBnightlife.com":https://vbnightlife.com/profile/admin
ATTACH;FMTTYPE="image/jpeg":http://storage.ning.com/topology/rest/1.0/
 file/get/1664160498?profile=original
ATTENDEE;ROLE=REQ-PARTICIPANT;PARTSTAT=ACCEPTED;RSVP=TRUE;CN="VBnightl
 ife.com":https://vbnightlife.com/profile/admin
END:VEVENT
END:VCALENDAR
