BEGIN:VCALENDAR
PRODID:NingEventWidget-v1
VERSION:2.0
METHOD:PUBLISH
BEGIN:VEVENT
UID:2508951:Event:210955
DTSTAMP:20260420T115908Z
SUMMARY:Click here for TUESDAY 2/19/13 VIRGINIA BEACH ENTERTAINMENT LI
 STINGS
DESCRIPTION:LIVE ENTERTAINMENT/ DJ’S/ KARAOKE:\nAbbey Rd- Open Mic\n
 Bayside Bar & Grill- Hot 100.5 Party Night ft. DJ Chase\nBayside Inn- 
 Acoustic and Vocal Musicians EXPO and Open Mic with Christina Malubag\
 nFinn McCools- Karaoke\nFresh- Joe Heilman 7:00pm\nIl Giardino's -  R
 eginald Blackwell\nJewish Mother Hilltop- Zoogma & Kung Fu\nKeagans- J
 ack Becker\nLunaSea- Jesse Chong 10pm\nRetro Café- Open Mic Night\nSe
 aside Raw Bar- Dave Derring 9pm\nSmokehouse & Cooler- Kasey McGehee\nW
 oody McGees Barstro -Karaoke\n \nSPECIAL EVENTS/CONCERTS/ FESTIVALS:\
 nThe Dirty Heads & Shiny Toy Guns- The Norva\nDate Night & Evening Con
 versation Tours- MOCA\nCLICK HERE FOR HAPPY HOUR DEALS FEATURING SEVER
 AL LOCAL RESTAURANTS DAILY SPECIALS\n \nCLICK HERE REACH OUR VENUE'S 
 PAGE TO FIND ADDRESSES AND PHONE NUMBERS OF PLACES LISTED\n \nCLICK 
 HERE FOR OUR BAND/DJ PAGE TO FIND DESCRIPTION OF THE BANDS AND LINKS 
 TO THEIR WEB PAGES\n\nFor more information visit https://vbnightlife.c
 om/events/click-here-for-tuesday-2-19-13-virginia-beach-entertainment-
 listi
DTSTART:20130219T050000Z
DTEND:20130220T045900Z
CATEGORIES:"virginia beach", "virginia beach nightlife", "virginia bea
 ch bands"
LOCATION:Virginia Beach, VA
WEBSITE:
URL:
CONTACT:
ORGANIZER;CN="VBnightlife.com":https://vbnightlife.com/profile/admin
ATTACH;FMTTYPE="image/jpeg":http://storage.ning.com/topology/rest/1.0/
 file/get/1664185809?profile=original
ATTENDEE;ROLE=REQ-PARTICIPANT;PARTSTAT=ACCEPTED;RSVP=TRUE;CN="VBnightl
 ife.com":https://vbnightlife.com/profile/admin
END:VEVENT
END:VCALENDAR
