BEGIN:VCALENDAR
PRODID:NingEventWidget-v1
VERSION:2.0
METHOD:PUBLISH
BEGIN:VEVENT
UID:2508951:Event:188172
DTSTAMP:20260422T121316Z
SUMMARY:Click here for TUESDAY *VALENTINE'S DAY*  VIRGINIA BEACH ENTER
 TAINMENT LISTINGS
DESCRIPTION:ENTERTAINMENT\n15th Street Raw Bar- Pool Tournament, 8PM\n
 Abbey Road- Open Stage\nCinema Cafe- $1 Movie Tuesdays\nDiesel- Weekly
  Beer Pong Tournament, 8PM\nH20- Brandon Bower 9pm\nHavanah Nights- Li
 ve Jazz\nKeagans- Jack Becker, 10PM\nKnuckleheads- Valentines Day Kara
 oke\nLunasea- Jesse Chong 10pm\nMurphys- Pub Triva, 7PM\nRetro - ANTI-
 VALENTINE'S DAY PARTY w/ Live Music and Art Show\nSeaside Raw Bar - Se
 an-Patrick Hickey 9pm\nShakas - We Never Sleep and The Jolley Brother
 s performing live... Featuring OHBOY!!  $10\n\nTHEATRE/FUNDRAISERS/CO
 NCERTS/SPORTS:\nScope- Norfolk SharX, 7PM\nFunnybone- Valentines Day w
 / Kevin Downey Jr. \n\nDJ’S/KARAOKE/DANCES:\nRetro Cafe- Karaoke\nC
 abo- DJ Bryan One & Tias, 9PM\nChicho’s 29th - *KARAOKE\nGeared Up- 
 Karaoke\nPoppa’s Pub - *KARAOKE* 9:30PM\nJewish Mother- MOMS KARAOKE
  8pm\nStarz- Karaoke\nWannaB's- KARAOKE 7 PM - 2 AM  Monday - Saturda
 y (21 and Older)\n\nHAPPY HOUR:\n15th Street Raw Bar – clams .50 oy
 sters .75 3-7pm, ny strip + 2 sides = $13.99\nCLICK HERE FOR HAPPY HOU
 R DEALS\nCLICK HERE REACH OUR VENUE'S PAGE TO FIND ADDRESSES AND PHON
 E NUMBERS OF PLACES LISTED\nCLICK HERE FOR OUR BAND/DJ PAGE TO FIND D
 ESCRIPTION OF THE BANDS AND LINKS TO THEIR WEB PAGES\nBookings can cha
 nge at the last minute, so we recommend checking with the venue before
  heading out!\n\nFor more information visit https://vbnightlife.com/ev
 ents/click-here-for-tuesday-2-14-12-virginia-beach-entertainment-listi
DTSTART:20120214T050000Z
DTEND:20120215T045900Z
CATEGORIES:"virgina beach entertainment", "virginia beach nightlife", 
 "virginia beach bands"
LOCATION:Virginia Beach
WEBSITE:
URL:
CONTACT:
ORGANIZER;CN="VBnightlife.com":https://vbnightlife.com/profile/admin
ATTACH;FMTTYPE="image/jpeg":http://storage.ning.com/topology/rest/1.0/
 file/get/1664160478?profile=original
ATTENDEE;ROLE=REQ-PARTICIPANT;PARTSTAT=ACCEPTED;RSVP=TRUE;CN="VBnightl
 ife.com":https://vbnightlife.com/profile/admin
END:VEVENT
END:VCALENDAR
