BEGIN:VCALENDAR
PRODID:NingEventWidget-v1
VERSION:2.0
METHOD:PUBLISH
BEGIN:VEVENT
UID:2508951:Event:319409
DTSTAMP:20260423T235646Z
SUMMARY:Click here for TUESDAY 12/8/15 VIRGINIA BEACH EVENTS AND ENTER
 TAINMENT LISTINGS
DESCRIPTION:Download the new FREE mobile app for Virginia Beach.  Use
  this link to download http://onelink.to/yae3t5 or search VBnightli
 fe in the iTunes or Google Play stores today and get a complete list 
 of events, restaurant recommendations, coupons and more!  \n\nFeatur
 ed events\nTinto Wine & Cheese - Hilltop -\"Tuesday @ Tinto\" A Theme
 d Tasting 5 to 8p\nColonial Shooting Academy: Ladies Night All Day 9a 
 to 9p 1/2 off Lane Rental\nMuseum of Contemporary Art (MOCA) - Now on
  Exhibit\nStravitz Galleries - 12 Days of Christmas Sale \n\nAll Eve
 nts\nAbbey Road - Open Stage with Doug Dunn 8:30p\nEagles Nest - Hill
 top - Karaoke Hosted by Nathan Firth 7p\nFroggies - Shore Dr - Open Mi
 c + $4 Draft + shrimp & crableg dinner specials  \nGrumpy's - Kempsvi
 lle - Youtube Video 7p\nJerry's Restaurant and Lounge -Chesapeake- Tw
 o Wheel & Tip Tuesdays 2/$25 Beef Tip Dinner & Happy Hour 'til 9p + T
 NT Karaoke\nKeagans Irish Pub -Town Center- Jack Becker 10p*\nLongsh
 ots Billiards & Darts- Chesapeake - Karaoke Night\nLunasea - Jesse Ch
 ong 10p*\nMurphy's Irish Pub - Trivia Night 7p\nRY Lounge - Oceanfro
 nt - Electro Tuesday w/ Dj : X-Ray and DJ 401k\nTapped Gastropub - Hi
 lltop - Tapps & Laughs 9p\nTempt Restaurant & Lounge - SIN (Service In
 dustry Night): Theme Specials - Brian Shultz 9p*\nWing King - Rosem
 ont - Trivia 7p, Karaoke 9p COUPON\nWing King - Kempsville - Wasted Pr
 esley 9p COUPON\nWoody McGee's Barstro- Holland Road - Karaoke w/Pau
 l Bell & Service Industry Specials 9p to Close\n\nFor more informati
 on visit https://vbnightlife.com/events/click-here-for-tuesday-12-8-15
 -virginia-beach-events-and-entertai
DTSTART:20151208T050000Z
DTEND:20151209T045900Z
CATEGORIES:"virginia beach", "virginia beach nightlife", "virginia bea
 ch bands", "virginia beach entertainment"
LOCATION:Virginia Beach, VA
WEBSITE:http://VBNIGHTLIFE.COM
URL:http://VBNIGHTLIFE.COM
CONTACT:
ORGANIZER:VBnightlife.com / VBdaylife.com / VBhotdeals.com
ATTACH;FMTTYPE="image/jpeg":http://storage.ning.com/topology/rest/1.0/
 file/get/1664297044?profile=original
ATTENDEE;ROLE=REQ-PARTICIPANT;PARTSTAT=ACCEPTED;RSVP=TRUE;CN="VBnightl
 ife.com":https://vbnightlife.com/profile/admin
END:VEVENT
END:VCALENDAR
