BEGIN:VCALENDAR
PRODID:NingEventWidget-v1
VERSION:2.0
METHOD:PUBLISH
BEGIN:VEVENT
UID:2508951:Event:208638
DTSTAMP:20260423T194704Z
SUMMARY:Click here for TUESDAY 12/4/12 VIRGINIA BEACH ENTERTAINMENT LI
 STINGS
DESCRIPTION:LIVE ENTERTAINMENT/ DJ’S/ KARAOKE:\nAbbey Rd.- Open Stag
 e\nBayside Inn- Acoustic and Vocal Musicians EXPO and Open Mic with Ch
 ristina Malubag\nBoneshakers – Open Mic With Karl Werne\nClutch Bar 
 & Grill- Karaoke\nH20- Brandon Bower\nHK On the Bay- Jesse Chong\nIl G
 iardino's – Reginald Blackwell\nKeagans- Jack Becker\nLunasea-Jesse 
 Chong\nWoody McGees Barstro Karaoke with Paul Bell\n \nSPECIAL EVENTS
 /CONCERTS/ FESTIVALS:\nMcDonalds Holiday Lights at the Beach\nODU Woma
 ns Basketball Vs. Richmond\nDate Night- MOCA\n \n \nCLICK HERE FOR H
 APPY HOUR DEALS FEATURING SEVERAL LOCAL RESTAURANTS DAILY SPECIALS\n 
 \nCLICK HERE REACH OUR VENUE'S PAGE TO FIND ADDRESSES AND PHONE NUMBE
 RS OF PLACES LISTED\n \nCLICK HERE FOR OUR BAND/DJ PAGE TO FIND DESC
 RIPTION OF THE BANDS AND LINKS TO THEIR WEB PAGES\n\nFor more informat
 ion visit https://vbnightlife.com/events/click-here-for-tuesday-12-4-1
 2-virginia-beach-entertainment-listi
DTSTART:20121204T050000Z
DTEND:20121205T045900Z
CATEGORIES:"virginia beach", "virginia beach nightlife", "virginia bea
 ch bands"
LOCATION:Virginia Beach
WEBSITE:
URL:
CONTACT:
ORGANIZER;CN="VBnightlife.com":https://vbnightlife.com/profile/admin
ATTACH;FMTTYPE="image/jpeg":http://storage.ning.com/topology/rest/1.0/
 file/get/1664183041?profile=original
ATTENDEE;ROLE=REQ-PARTICIPANT;PARTSTAT=ACCEPTED;RSVP=TRUE;CN="VBnightl
 ife.com":https://vbnightlife.com/profile/admin
END:VEVENT
END:VCALENDAR
