BEGIN:VCALENDAR
PRODID:NingEventWidget-v1
VERSION:2.0
METHOD:PUBLISH
BEGIN:VEVENT
UID:2508951:Event:302825
DTSTAMP:20260421T054348Z
SUMMARY:Click here for TUESDAY 12/23/14 VIRGINIA BEACH EVENTS AND ENTE
 RTAINMENT LISTINGS
DESCRIPTION:\nDownload the new FREE mobile app for Virginia Beach.  U
 se this link to download http://onelink.to/yae3t5 or search VBnight
 life in the iTunes or Google Play stores today and get a complete lis
 t of events, restaurant recommendations, coupons and more!  \n  \n
 Featured events:  \n\nOceanfront Ice Rink - 10am to 10pm - Discount 
 tickets available on www.VBhotdeals.com\nCountry Christmas & Winter W
 onderland at Hunt Club Farm - Discount tickets available on www.VBhot
 deals.com  noon to 9pm \n\nAll Events: \nAbbey Road - Open Stage 9
 pm \nFroggies - Shore Drive -   7pm Grumpy's - Kempsville - Youtube 
 Video 7pm\nJake's Smokehouse & Bar-B-Que - General Booth - Lunch & E
 arly Bird Specials 11am to 5pm\nJerry's Restaurant Chesapeake - Custom
 er Appreciation Christmas Party with the Fringe 8pm\nKeagans - Town C
 enter - Jack Becker 10pm*\nLongshots Billiards & Darts- Chesapeake - 
 Karaoke Night\nLunasea - JESSE CHONG 10pm*\nMurphy's Irish Pub - Tri
 via Night 7pm Poppa's Pub - Diamond Springs Rd * OPEN MIC /w USED MU
 SIC 7-10:30pm Seaboard Sports Bar - Open Mic w RnR Band * Shaka's 21s
 t Street - Oceanfront -  Sly Fox - 1/2 off all drafts  \nTempt - S
 IN (service Industry Night) - Ryan Hines 10pm\nVertigo Ultra Lounge -
  Lynnhaven - Beer Pong Tourney w/ $150 Cash & other prizes\nWing King
  - Kempsville - Open Mic 8:30pm\nWing King - Rosemont - Trivia 7pm, Ka
 raoke 9pm Woody McGee's Barstro - Holland Rd - Karaoke & Sin Night 9p
 m to Close\n \nOther Events: \nMcDonald's Holiday Lights at the Beac
 h\n\nFor more information visit https://vbnightlife.com/events/click-h
 ere-for-tuesday-12-23-14-virginia-beach-events-and-enterta
DTSTART:20141223T050000Z
DTEND:20141224T045900Z
CATEGORIES:"virginia beach", "virginia beach nightlife", "virginia bea
 ch bands", "virginia beach entertainment"
LOCATION:Virginia Beach, VA
WEBSITE:http://VBNIGHTLIFE.COM
URL:http://VBNIGHTLIFE.COM
CONTACT:
ORGANIZER;CN="VBnightlife.com":https://vbnightlife.com/profile/admin
ATTACH;FMTTYPE="image/jpeg":http://storage.ning.com/topology/rest/1.0/
 file/get/1664258355?profile=original
ATTENDEE;ROLE=REQ-PARTICIPANT;PARTSTAT=ACCEPTED;RSVP=TRUE;CN="VBnightl
 ife.com":https://vbnightlife.com/profile/admin
END:VEVENT
END:VCALENDAR
