BEGIN:VCALENDAR
PRODID:NingEventWidget-v1
VERSION:2.0
METHOD:PUBLISH
BEGIN:VEVENT
UID:2508951:Event:320252
DTSTAMP:20260422T164446Z
SUMMARY:Click here for TUESDAY 12/22/15 VIRGINIA BEACH EVENTS AND ENTE
 RTAINMENT LISTINGS
DESCRIPTION:Download the new FREE mobile app for Virginia Beach. Â Use
  this link to downloadÂ http://onelink.to/yae3t5Â or searchÂ VBnightli
 feÂ in the iTunes or Google Play stores today and get a complete list 
 of events, restaurant recommendations, coupons and more!Â Â \n\nFeatur
 ed events\nTinto Wine & CheeseÂ - Hilltop -\"Tuesday @ Tinto\" A Theme
 d Tasting 5 to 8p\nColonial Shooting Academy: Ladies Night All Day 9a 
 to 9p 1/2 off Lane Rental\nMuseum of Contemporary Art (MOCA) -Â Now on
  Exhibit\n\nAll Events\nAbbey RoadÂ - Open Stage with Doug Dunn 8:30p\
 nBella Monte Restaurant & EnotecaÂ -Â 1201 Laskin RdÂ - Happy Hour at 
 the bar 4 to 6 daily\nEagles Nest - Hilltop - Karaoke hosted by Nathan
  Firth 7p\nFroggies - Shore Dr - Open Mic + $4 Draft + shrimp & crable
 g dinner specials Â \nGrumpy's - Kempsville - Youtube Video 7p\nJerry'
 s Restaurant and Lounge -Chesapeake-Â Two Wheel & Tip Tuesdays 2/$25 B
 eef Tip Dinner & Happy HourÂ 'til 9p + TNT Karaoke\nKeagans Irish PubÂ
  -Town Center-Â Jack Becker 10p*\nLongshots Billiards & Darts- Chesape
 ake - Karaoke Night\nLunasea -Â Jesse Chong 10p*\nMurphy's Irish PubÂ 
 - Trivia NightÂ 7p\nRY Lounge - Oceanfront - Electro Tuesday w/ Dj : X
 -Ray and DJ 401k\nTapped GastropubÂ - Hilltop - Tapps & Laughs 9p\nTem
 pt Restaurant & Lounge - SIN (Service Industry Night):Â Theme Specials
 Â -Â Brian Shultz 9p*\nWing King - Rosemont - Trivia 7p, Karaoke 9p CO
 UPON\nWing King - Kempsville - Wasted Presley 9pÂ COUPON\nWoody McGee'
 s Barstro-Â Holland Road - Karaoke w/Paul BellÂ & Service Industry Spe
 cialsÂ 9p to Close\n\nFor more information visit https://vbnightlife.c
 om/events/click-here-for-tuesday-12-22-15-virginia-beach-events-and-en
 terta
DTSTART:20151222T050000Z
DTEND:20151223T045900Z
CATEGORIES:"virginia beach", "virginia beach nightlife", "virginia bea
 ch bands", "virginia beach entertainment"
LOCATION:Virginia Beach, VA
WEBSITE:http://VBNIGHTLIFE.COM
URL:http://VBNIGHTLIFE.COM
CONTACT:
ORGANIZER:VBnightlife.com / VBdaylife.com / VBhotdeals.com
ATTACH;FMTTYPE="image/jpeg":http://storage.ning.com/topology/rest/1.0/
 file/get/1664294322?profile=original
ATTENDEE;ROLE=REQ-PARTICIPANT;PARTSTAT=ACCEPTED;RSVP=TRUE;CN="VBnightl
 ife.com":https://vbnightlife.com/profile/admin
END:VEVENT
END:VCALENDAR
