BEGIN:VCALENDAR
PRODID:NingEventWidget-v1
VERSION:2.0
METHOD:PUBLISH
BEGIN:VEVENT
UID:2508951:Event:208642
DTSTAMP:20260424T075436Z
SUMMARY:Click here for TUESDAY 12/11/12 VIRGINIA BEACH ENTERTAINMENT L
 ISTINGS
DESCRIPTION:LIVE ENTERTAINMENT/ DJ’S/ KARAOKE:\nAbbey Rd.- Open Stag
 e\nBayside Inn- Acoustic and Vocal Musicians EXPO and Open Mic with Ch
 ristina Malubag\nBoneshakers – Open Mic With Karl Werne\nClutch Bar 
 & Grill- Karaoke\nFinn McCools- Karaoke\nH20- Brandon Bower\nIl Giardi
 no's – Reginald Blackwell\nKeagans- Jack Becker\nLunaSea- Jesse Chon
 g\nSeaside Raw Bar- Borderline Crazy\nSmokehouse & Cooler- Blackwater 
 Jam\nWoody McGees Barstro Karaoke with Paul Bell\n \n \nSPECIAL EVEN
 TS/CONCERTS/ FESTIVALS:\nMcDonalds Holiday Lights at the Beach\nHinder
 /Nonpoint/Charm City Devils- The Norva\nDate Night- MOCA\n \n \nCLIC
 K HERE FOR HAPPY HOUR DEALS FEATURING SEVERAL LOCAL RESTAURANTS DAILY 
 SPECIALS\n \nCLICK HERE REACH OUR VENUE'S PAGE TO FIND ADDRESSES AND
  PHONE NUMBERS OF PLACES LISTED\n \nCLICK HERE FOR OUR BAND/DJ PAGE 
 TO FIND DESCRIPTION OF THE BANDS AND LINKS TO THEIR WEB PAGES\n\nFor m
 ore information visit https://vbnightlife.com/events/click-here-for-tu
 esday-12-11-12-virginia-beach-entertainment-list
DTSTART:20121211T050000Z
DTEND:20121212T045900Z
CATEGORIES:"virginia beach", "virginia beach nightlife", "virginia bea
 ch bands"
LOCATION:Virginia Beach, VA
WEBSITE:
URL:
CONTACT:
ORGANIZER;CN="VBnightlife.com":https://vbnightlife.com/profile/admin
ATTACH;FMTTYPE="image/jpeg":http://storage.ning.com/topology/rest/1.0/
 file/get/1664183097?profile=original
ATTENDEE;ROLE=REQ-PARTICIPANT;PARTSTAT=ACCEPTED;RSVP=TRUE;CN="VBnightl
 ife.com":https://vbnightlife.com/profile/admin
END:VEVENT
END:VCALENDAR
