BEGIN:VCALENDAR
PRODID:NingEventWidget-v1
VERSION:2.0
METHOD:PUBLISH
BEGIN:VEVENT
UID:2508951:Event:299202
DTSTAMP:20260420T022411Z
SUMMARY:Click here for TUESDAY 11/4/14 VIRGINIA BEACH EVENTS AND ENTER
 TAINMENT LISTINGS
DESCRIPTION:\nDownload the new FREE mobile app for Virginia Beach.  U
 se this link to download http://onelink.to/yae3t5 or search VBnight
 life in the iTunes or Google Play stores today and get a complete lis
 t of events, restaurant recommendations, coupons and more!  \n  \n
 All Events: \nAbbey Road - Open Stage 9pm \nFroggies - Shore Drive 
 - OPEN MIC w/ Fred Karam 7pm Grumpy's - Kempsville - Youtube Video 7pm
 \nJake's Smokehouse & Bar-B-Que - General Booth - Lunch & Early Bird
  Specials 11am to 5pm Keagans - Town Center - JACK BECKER\" 10pm* Lun
 asea - JESSE CHONG 10pm* Poppa's Pub - Diamond Springs Rd * OPEN MIC
  /w USED MUSIC 7-10:30pm Seaboard Sports Bar - Open Mic w RnR Band * 
 Shaka's 21st Street - Oceanfront - 710 Oil Sly Fox - 1/2 off all draf
 ts   Woody McGee's Barstro - Holland Rd - Karaoke w/ Paul Bell*\n \
 nSpecial Events: \nBeach Gallery -  Collected Works on Exhibit - cal
 l 757 428 3726 for details\n \nFOR RESTAURANT RECOMMENDATIONS AND THE
  LIST OF BARS SHOWING THE NFL SUNDAY TICKET, visit the \"Eat/Drink\" B
 utton on the App (see below)\n \n\n\nFOR A NEWLY UPDATED HAPPY HOUR L
 ISTING WITH DAILY FOOD AND DRINK DEALS Visit the \"Happy Hour\" Butto
 n on the App  \n \n\nFor a 13 Day Forcast of live music in Coastal 
 Virginia / Hampton Roads, visit www.meona.net\n \nCLICK HERE REACH O
 UR VENUE'S PAGE TO FIND ADDRESSES AND PHONE NUMBERS OF PLACES LISTED\
 n \nCLICK HERE FOR OUR BAND/DJ PAGE TO FIND DESCRIPTION OF THE BANDS
  AND LINKS TO THEIR WEB PAGES\n\nFor more information visit https://vb
 nightlife.com/events/click-here-for-tuesday-11-4-14-virginia-beach-eve
 nts-and-entertai
DTSTART:20141104T050000Z
DTEND:20141105T045900Z
CATEGORIES:"virginia beach", "virginia beach nightlife", "virginia bea
 ch bands", "virginia beach entertainment"
LOCATION:Virginia Beach, VA
WEBSITE:http://VBNIGHTLIFE.COM
URL:http://VBNIGHTLIFE.COM
CONTACT:
ORGANIZER;CN="VBnightlife.com":https://vbnightlife.com/profile/admin
ATTACH;FMTTYPE="image/jpeg":http://storage.ning.com/topology/rest/1.0/
 file/get/1664255453?profile=original
ATTENDEE;ROLE=REQ-PARTICIPANT;PARTSTAT=ACCEPTED;RSVP=TRUE;CN="VBnightl
 ife.com":https://vbnightlife.com/profile/admin
END:VEVENT
END:VCALENDAR
