BEGIN:VCALENDAR
PRODID:NingEventWidget-v1
VERSION:2.0
METHOD:PUBLISH
BEGIN:VEVENT
UID:2508951:Event:299206
DTSTAMP:20260423T194124Z
SUMMARY:Click here for TUESDAY 11/25/14 VIRGINIA BEACH EVENTS AND ENTE
 RTAINMENT LISTINGS
DESCRIPTION:\nDownload the new FREE mobile app for Virginia Beach.  U
 se this link to download http://onelink.to/yae3t5 or search VBnight
 life in the iTunes or Google Play stores today and get a complete lis
 t of events, restaurant recommendations, coupons and more!  \n  \n
 All Events: \nAbbey Road - Open Stage 9pm \nFroggies - Shore Drive 
 - OPEN MIC w/ Fred Karam 7pm Grumpy's - Kempsville - Youtube Video 7pm
 \nJake's Smokehouse & Bar-B-Que - General Booth - Lunch & Early Bird
  Specials 11am to 5pm Keagans - Town Center - JACK BECKER\" 10pm* Lun
 asea - JESSE CHONG 10pm*\nMurphy's Irish Pub - Trivia Night  Poppa'
 s Pub - Diamond Springs Rd * OPEN MIC /w USED MUSIC 7-10:30pm Seaboar
 d Sports Bar - Open Mic w RnR Band * Shaka's 21st Street - Oceanfron
 t - 510 Oil Sly Fox - 1/2 off all drafts  \nTempt - SIN (service Ind
 ustry Night) - Ryan Hines 10pm Woody McGee's Barstro - Holland Rd - K
 araoke w/ Paul Bell*\n \nSpecial Events: \nBeach Gallery -  Collect
 ed Works on Exhibit - call 757 428 3726 for details\n McDonald's Holi
 day Lights at the Beach\n \nFOR RESTAURANT RECOMMENDATIONS AND THE LI
 ST OF BARS SHOWING THE NFL SUNDAY TICKET, visit the \"Eat/Drink\" Butt
 on on the App (see below)\n \n\n\nFOR A NEWLY UPDATED HAPPY HOUR LIST
 ING WITH DAILY FOOD AND DRINK DEALS Visit the \"Happy Hour\" Button o
 n the App  \n \n\nFor a 13 Day Forcast of live music in Coastal Vir
 ginia / Hampton Roads, visit www.meona.net\n \nCLICK HERE REACH OUR 
 VENUE'S PAGE TO FIND ADDRESSES AND PHONE NUMBERS OF PLACES LISTED\n 
 \nCLICK HERE FOR OUR BAND/DJ PAGE TO FIND DESCRIPTION OF THE BANDS AN
 D LINKS TO THEIR WEB PAGES\n\nFor more information visit https://vbnig
 htlife.com/events/click-here-for-tuesday-11-25-14-virginia-beach-event
 s-and-enterta
DTSTART:20141125T050000Z
DTEND:20141126T045900Z
CATEGORIES:"virginia beach", "virginia beach nightlife", "virginia bea
 ch bands", "virginia beach entertainment"
LOCATION:Virginia Beach, VA
WEBSITE:http://VBNIGHTLIFE.COM
URL:http://VBNIGHTLIFE.COM
CONTACT:
ORGANIZER;CN="VBnightlife.com":https://vbnightlife.com/profile/admin
ATTACH;FMTTYPE="image/jpeg":http://storage.ning.com/topology/rest/1.0/
 file/get/1664255449?profile=original
ATTENDEE;ROLE=REQ-PARTICIPANT;PARTSTAT=ACCEPTED;RSVP=TRUE;CN="VBnightl
 ife.com":https://vbnightlife.com/profile/admin
END:VEVENT
END:VCALENDAR
