BEGIN:VCALENDAR
PRODID:NingEventWidget-v1
VERSION:2.0
METHOD:PUBLISH
BEGIN:VEVENT
UID:2508951:Event:299288
DTSTAMP:20260423T012603Z
SUMMARY:Click here for TUESDAY 11/18/14 VIRGINIA BEACH EVENTS AND ENTE
 RTAINMENT LISTINGS
DESCRIPTION:\nDownload the new FREE mobile app for Virginia Beach.  U
 se this link to download http://onelink.to/yae3t5 or search VBnight
 life in the iTunes or Google Play stores today and get a complete lis
 t of events, restaurant recommendations, coupons and more!  \n Spec
 ial Events:\n\"DINE OUT\" FOR STOP ABUSE AT AMMOS AUTHENTIC GREEK CUIS
 INE 5:30 to 9:30\nMOCA Nights - Free Admission and Eat the Streets F
 ood Trucks 5pm to 9pm \n\nAll Events: \nFroggies - Shore Drive - OPE
 N MIC w/ Fred Karam 7pm\nJager's Beach Bar and Grill - General Booth -
  Karaoke 7 to 11pm\nJake's Smokehouse & Bar-B-Que - General Booth - 
 Lunch & Early Bird Specials 11am to 5pm\nJerry's Restaurant and Lounge
  - Chesapeake - Mechelle & Gangsta Danny - Get your 1/2 price voucher
  for food and drink here: www.vbhotdeals.com\nKeagans - Town Center 
 - JACK BECKER\" 10pm* Lunasea - JESSE CHONG 10pm*\nMurphy's Irish Pub
  - Trivia Night  Poppa's Pub - Diamond Springs Rd * OPEN MIC /w USED
  MUSIC 7-10:30pm Shaka's 21st Street - Oceanfront - 510 Oil Sly Fox -
  1/2 off all drafts  \nTempt - SIN (service Industry Night) - Ryan Hi
 nes 10pm Woody McGee's Barstro - Holland Rd - Karaoke w/ Paul Bell*\n
  \nSpecial Events: \nBeach Gallery -  Collected Works on Exhibit - 
 call 757 428 3726 for details\n \n\nFor more information visit https:
 //vbnightlife.com/events/click-here-for-tuesday-11-18-14-virginia-beac
 h-events-and-enterta
DTSTART:20141118T050000Z
DTEND:20141119T045900Z
CATEGORIES:"virginia beach", "virginia beach nightlife", "virginia bea
 ch bands", "virginia beach entertainment"
LOCATION:Virginia Beach, VA
WEBSITE:http://VBNIGHTLIFE.COM
URL:http://VBNIGHTLIFE.COM
CONTACT:
ORGANIZER;CN="VBnightlife.com":https://vbnightlife.com/profile/admin
ATTACH;FMTTYPE="image/jpeg":http://storage.ning.com/topology/rest/1.0/
 file/get/1664255692?profile=original
ATTENDEE;ROLE=REQ-PARTICIPANT;PARTSTAT=ACCEPTED;RSVP=TRUE;CN="VBnightl
 ife.com":https://vbnightlife.com/profile/admin
END:VEVENT
END:VCALENDAR
