BEGIN:VCALENDAR
PRODID:NingEventWidget-v1
VERSION:2.0
METHOD:PUBLISH
BEGIN:VEVENT
UID:2508951:Event:299111
DTSTAMP:20260423T062635Z
SUMMARY:Click here for TUESDAY 11/11/14 VIRGINIA BEACH EVENTS AND ENTE
 RTAINMENT LISTINGS
DESCRIPTION:\nDownload the new FREE mobile app for Virginia Beach.  U
 se this link to download http://onelink.to/yae3t5 or search VBnight
 life in the iTunes or Google Play stores today and get a complete lis
 t of events, restaurant recommendations, coupons and more!  \n Spec
 ial Events: \nTidewater Veterans Day Parade & Ceremony 9am to 11am a
 t the oceanfront\nFREE Meals for Veterans\n\nAll Events: \nAbbey Road
  - Open Stage 9pm \nFroggies - Shore Drive - OPEN MIC w/ Fred Karam 
 7pm Grumpy's - Kempsville - Youtube Video 7pm\nJager's Beach Bar & Gri
 ll - General Booth -  Karaoke w/ Jonathan Guilfoyle 7 to 11pm \nJ
 ake's Smokehouse & Bar-B-Que - General Booth - Lunch & Early Bird Sp
 ecials 11am to 5pm Keagans - Town Center - JACK BECKER\" 10pm* Lunase
 a - JESSE CHONG 10pm* Seaboard Sports Bar - Open Mic w RnR Band * Sl
 y Fox -  Shore Drive - Trivia Night and 1/2 off all drafts   Woody M
 cGee's Barstro - Holland Rd - Karaoke w/ Paul Bell*\n \nSpecial Even
 ts: \nBeach Gallery -  Collected Works on Exhibit - call 757 428 372
 6 for details\n \n\n\nFOR A NEWLY UPDATED HAPPY HOUR LISTING WITH DAI
 LY FOOD AND DRINK DEALS Visit the \"Happy Hour\" Button on the App  
 \n \n\nFor more information visit https://vbnightlife.com/events/clic
 k-here-for-tuesday-11-11-14-virginia-beach-events-and-enterta
DTSTART:20141111T050000Z
DTEND:20141112T045900Z
CATEGORIES:"virginia beach", "virginia beach nightlife", "virginia bea
 ch bands", "virginia beach entertainment"
LOCATION:Virginia Beach, VA
WEBSITE:http://VBNIGHTLIFE.COM
URL:http://VBNIGHTLIFE.COM
CONTACT:
ORGANIZER;CN="VBnightlife.com":https://vbnightlife.com/profile/admin
ATTACH;FMTTYPE="image/jpeg":http://storage.ning.com/topology/rest/1.0/
 file/get/1664248633?profile=original
ATTENDEE;ROLE=REQ-PARTICIPANT;PARTSTAT=ACCEPTED;RSVP=TRUE;CN="VBnightl
 ife.com":https://vbnightlife.com/profile/admin
END:VEVENT
END:VCALENDAR
