BEGIN:VCALENDAR
PRODID:NingEventWidget-v1
VERSION:2.0
METHOD:PUBLISH
BEGIN:VEVENT
UID:2508951:Event:263507
DTSTAMP:20260421T230950Z
SUMMARY:Click here for TUESDAY 10/29/13 VIRGINIA BEACH ENTERTAINMENT L
 ISTINGS
DESCRIPTION:LIVE ENTERTAINMENT/ DJ’S/ KARAOKE:\nAbbey Rd.- Open Stag
 e with Jackson LeBeau 9pm\nBahama Breeze- Trevor Phillip 5pm-8pm, Dust
 in Furlow 8pm-11pm\nBayside Bar- DJ 10pm\nIl Giardino's- Reginald Blac
 kwell 6:30pm-10:30pm\nBayside Inn-Music Expo and  Open Mic Night 8:30
 pm\nKeagans- Jack Becker 10pm\nSandbridge Island Grill- Karaoke w/ DJ 
 Cracker 9pm\nTempt – Sin Night ft. Ryan Hines 9:30pm\nWing King- Ka
 raoke 10pm\nWoody McGees Barstro – Karaoke 9pm\n \nSPECIAL EVENTS/
 CONCERTS/ FESTIVALS:\nVirginia Stage Company ‘Woman In Black’- Wel
 ls Theatre\nSleeping With Sirens- The Norva 7pm\nHorror at the Beach -
  Near Hilltop - Details and Discount Tickets here\n \nCLICK HERE FOR 
 THE BEST DEALS & COUPONS IN VIRGINIA BEACH FEATURING EXCLUSIVE BARGAI
 NS\n \nCLICK HERE FOR HAPPY HOUR DEALS FEATURING SEVERAL LOCAL RESTAU
 RANTS DAILY SPECIALS\n \nCLICK HERE REACH OUR VENUE'S PAGE TO FIND A
 DDRESSES AND PHONE NUMBERS OF PLACES LISTED\n \nCLICK HERE FOR OUR BA
 ND/DJ PAGE TO FIND DESCRIPTION OF THE BANDS AND LINKS TO THEIR WEB PA
 GES\n\nFor more information visit https://vbnightlife.com/events/click
 -here-for-tuesday-10-29-13-virginia-beach-entertainment-list
DTSTART:20131029T040000Z
DTEND:20131030T035900Z
CATEGORIES:"virginia beach", "virginia beach nightlife", "virginia bea
 ch bands", "virginia beach entertainment"
LOCATION:Virginia Beach, VA
WEBSITE:
URL:
CONTACT:
ORGANIZER;CN="VBnightlife.com":https://vbnightlife.com/profile/admin
ATTACH;FMTTYPE="image/jpeg":http://storage.ning.com/topology/rest/1.0/
 file/get/1664209354?profile=original
ATTENDEE;ROLE=REQ-PARTICIPANT;PARTSTAT=ACCEPTED;RSVP=TRUE;CN="VBnightl
 ife.com":https://vbnightlife.com/profile/admin
END:VEVENT
END:VCALENDAR
