BEGIN:VCALENDAR
PRODID:NingEventWidget-v1
VERSION:2.0
METHOD:PUBLISH
BEGIN:VEVENT
UID:2508951:Event:298617
DTSTAMP:20260422T074003Z
SUMMARY:Click here for TUESDAY 10/28/14 VIRGINIA BEACH EVENTS AND ENTE
 RTAINMENT LISTINGS
DESCRIPTION: Special events \n \nHaunted Hunt Club Farm - DJs in th
 e Barn - $10 off admission with this deal:  www.VBhotdeals.com\nZombi
 e Paintball Outing - Every weekend thru November 1st:  www.VBhotdeals
 .com  \n\n\nAll Events: \nAbbey Road - Open Stage 9pm \nFroggies 
 - Shore Drive - OPEN MIC w/ Fred Karam 7pm Grumpy's - Kempsville - You
 tube Video 7pm\nJake's Smokehouse & Bar-B-Que - General Booth - Lunc
 h & Early Bird Specials 11am to 5pm Keagans - Town Center - JACK BECK
 ER\" 10pm* Lunasea - JESSE CHONG 10pm* Poppa's Pub - Diamond Springs
  Rd * OPEN MIC /w USED MUSIC 7-10:30pm Seaboard Sports Bar - Open Mic
  w RnR Band * Shaka's 21st Street - Oceanfront - Open Mic Sly Fox - S
 hore Drive - 1/2 off all drafts   Woody McGee's Barstro - Holland Rd
  - Karaoke w/ Paul Bell*\n\nFOR RESTAURANT RECOMMENDATIONS AND THE LIS
 T OF BARS SHOWING THE NFL SUNDAY TICKET, visit the \"Eat/Drink\" Butto
 n on the App (see below)\n \n\n\nFOR A NEWLY UPDATED HAPPY HOUR LISTI
 NG WITH DAILY FOOD AND DRINK DEALS Visit the \"Happy Hour\" Button on
  the App  \n \n\nFor a 13 Day Forcast of live music in Coastal Virg
 inia / Hampton Roads, visit www.meona.net\n \nCLICK HERE REACH OUR V
 ENUE'S PAGE TO FIND ADDRESSES AND PHONE NUMBERS OF PLACES LISTED\n \
 nCLICK HERE FOR OUR BAND/DJ PAGE TO FIND DESCRIPTION OF THE BANDS AND
  LINKS TO THEIR WEB PAGES\n\nFor more information visit https://vbnigh
 tlife.com/events/click-here-for-tuesday-10-28-14-virginia-beach-events
 -and-enterta
DTSTART:20141028T040000Z
DTEND:20141029T035900Z
CATEGORIES:"virginia beach", "virginia beach nightlife", "virginia bea
 ch bands", "virginia beach entertainment"
LOCATION:Virginia Beach, VA
WEBSITE:http://VBNIGHTLIFE.COM
URL:http://VBNIGHTLIFE.COM
CONTACT:
ORGANIZER;CN="VBnightlife.com":https://vbnightlife.com/profile/admin
ATTACH;FMTTYPE="image/jpeg":http://storage.ning.com/topology/rest/1.0/
 file/get/1664249344?profile=original
ATTENDEE;ROLE=REQ-PARTICIPANT;PARTSTAT=ACCEPTED;RSVP=TRUE;CN="VBnightl
 ife.com":https://vbnightlife.com/profile/admin
END:VEVENT
END:VCALENDAR
