BEGIN:VCALENDAR
PRODID:NingEventWidget-v1
VERSION:2.0
METHOD:PUBLISH
BEGIN:VEVENT
UID:2508951:Event:171635
DTSTAMP:20260420T134738Z
SUMMARY:Click here for TUESDAY 10/04/11 VIRGINIA BEACH ENTERTAINMENT L
 ISTING
DESCRIPTION:\nENTERTAINMENT:\nAbbey Road - VB - OPEN STAGE /w \"JOSH S
 EABURG\"\nKeagans - Town Center - VB \"JACK BECKER\" 10pm\nLunasea - V
 B \"JESSE CHONG\"\nNorth American Sandsculpting Championship\nÂ \nDJâ€
 ™S/KARAOKE/DANCES:\nGeared up- *KARAOKE*\nFAMILY FUN/SPECIAL EVENTS:\n
 Â \nHappy Hour:Â \n11thÂ StreetÂ TaphouseÂ â€“ bogo half-a-tizers 4-9p
 m\n15thÂ StreetÂ Raw BarÂ â€“ clams .50 oysters .75 3-7pm, ny strip + 
 2 sides = $13.99\n21stÂ StreetÂ Tiki BarÂ - $2 domestics, $2.50 import
 s & well drinks, large pizza + pitcher beer = $13.99 4-9pm || $1 jello
  shots, $1.50 mickeys/pbr/natty, $4 jager/fireball/flavored vodka mons
 ter bombs\nChichoâ€™s Pizza 29th StreetÂ - $2 wells & domestics, $5 pi
 tchers 4-9pm, $1 wells 9-10:30pm, $2 wells 10:30-cl || $1 cheese pizza
  slice, $6.99 large cheese pizza\n\nCLICK HERE FOR MORE HAPPY HOUR DEA
 LS\n\nCLICK HERE REACH OUR VENUE'S PAGEÂ TO FIND ADDRESSES AND PHONE N
 UMBERS OF PLACES LISTEDCLICK HERE FOR OUR BAND/DJ PAGEÂ TO FIND DESCRI
 PTION OF THE BANDS AND LINKS TO THEIR WEB PAGES\nÂ \nBookings can chan
 ge at the last minute, so we recommend checking with the venue before 
 heading out!\n\n\n\n\n\n\n\n\nFor more information visit https://vbnig
 htlife.com/events/click-here-for-tuesday-10-04-11-virginia-beach-enter
 tainment-list
DTSTART:20111004T040000Z
DTEND:20111005T035900Z
CATEGORIES:virginia, beach, entertainment, bands, nightlife
LOCATION:virginia Beach
WEBSITE:
URL:
CONTACT:
ORGANIZER;CN="VBnightlife.com":https://vbnightlife.com/profile/admin
ATTACH;FMTTYPE="image/jpeg":http://storage.ning.com/topology/rest/1.0/
 file/get/1664154540?profile=original
ATTENDEE;ROLE=REQ-PARTICIPANT;PARTSTAT=ACCEPTED;RSVP=TRUE;CN="VBnightl
 ife.com":https://vbnightlife.com/profile/admin
END:VEVENT
END:VCALENDAR
