BEGIN:VCALENDAR
PRODID:NingEventWidget-v1
VERSION:2.0
METHOD:PUBLISH
BEGIN:VEVENT
UID:2508951:Event:271375
DTSTAMP:20260419T175702Z
SUMMARY:Click here for TUESDAY 1/7/14 VIRGINIA BEACH ENTERTAINMENT LIS
 TINGS
DESCRIPTION:LIVE ENTERTAINMENT/ DJ’S/ KARAOKE:\nFroggies- Open Mic\n
 Grumpys- Karaoke 7pm-12am\nKeagans- Jack Becker\nLunaSea- Jesse Chong 
 & William Walter 10pm\nTempt – Sin Night ft. Ryan Hines 9:30pm\nW
 ing King- Karaoke 10pm\nWoody McGees Barstro – Karaoke 9pm\n \nSPE
 CIAL EVENTS/CONCERTS/ FESTIVALS:\nTBA\n \nPlease note that bookings 
 can change at the last minute.  If times are not available, we recom
 mend checking with the venue before heading out! \n \nCLICK HERE FOR
  THE BEST DEALS & COUPONS IN VIRGINIA BEACH FEATURING EXCLUSIVE BARGA
 INS\n \nCLICK HERE FOR HAPPY HOUR DEALS FEATURING SEVERAL LOCAL RESTA
 URANTS DAILY SPECIALS\n \nCLICK HERE REACH OUR VENUE'S PAGE TO FIND 
 ADDRESSES AND PHONE NUMBERS OF PLACES LISTED\n \nCLICK HERE FOR OUR B
 AND/DJ PAGE TO FIND DESCRIPTION OF THE BANDS AND LINKS TO THEIR WEB P
 AGES\n\nFor more information visit https://vbnightlife.com/events/clic
 k-here-for-tuesday-1-7-14-virginia-beach-entertainment-listin
DTSTART:20140107T050000Z
DTEND:20140108T045900Z
CATEGORIES:"virginia beach", "virginia beach nightlife", "virginia bea
 ch bands", "virginia beach entertainment"
LOCATION:Virginia Beach, VA
WEBSITE:
URL:
CONTACT:
ORGANIZER;CN="VBnightlife.com":https://vbnightlife.com/profile/admin
ATTACH;FMTTYPE="image/jpeg":http://storage.ning.com/topology/rest/1.0/
 file/get/1664219240?profile=original
ATTENDEE;ROLE=REQ-PARTICIPANT;PARTSTAT=ACCEPTED;RSVP=TRUE;CN="VBnightl
 ife.com":https://vbnightlife.com/profile/admin
END:VEVENT
END:VCALENDAR
