BEGIN:VCALENDAR
PRODID:NingEventWidget-v1
VERSION:2.0
METHOD:PUBLISH
BEGIN:VEVENT
UID:2508951:Event:187092
DTSTAMP:20260423T133705Z
SUMMARY:Click here for TUESDAY 1/24/12 VIRGINIA BEACH ENTERTAINMENT LI
 STINGS
DESCRIPTION:ENTERTAINMENT\n15th Street Raw Bar- Pool Tournament, 8PM\n
 Abbey Road- Open Stage\nBusky's- Karl Werne\nDiesel- Weekly Beer Pong 
 Tournament, 8PM\nH20- Brandon Bower, 8-11PM\nHavanah Nights- Woody Bec
 kner Duo\nKeagans- Jack Becker, 10PM\nLunasea- Jesse Chong\nMurphys- P
 ub Triva, 7PM\n\n\nTHEATRE/FUNDRAISERS/CONCERTS/SPORTS:\nScope- Admira
 ls Hockey, 7:15PM\nWells Theatre- Black Pearl Sings, 7PM\n\nDJ’S/KAR
 AOKE/DANCES:\nRetro Cafe- Karaoke\nCabo- DJ Bryan One & Tias, 9PM\nChi
 cho’s 29th - *KARAOKE\nGeared Up- Karaoke\nPoppa’s Pub - *KARAOKE*
  9:30PM\nJewish Mother- MOMS KARAOKE 8pm\nStarz- Karaoke\nWannaB's- KA
 RAOKE 7 PM - 2 AM  Monday - Saturday (21 and Older)\n\nFAMILY FUN/SPE
 CIAL EVENTS\nLittle Theatre of Virginia Beach- Getting Away with Murde
 r (through February 5th)\n\nHAPPY HOUR:\n15th Street Raw Bar – clams
  .50 oysters .75 3-7pm, ny strip + 2 sides = $13.99\nCLICK HERE FOR HA
 PPY HOUR DEALS\nCLICK HERE REACH OUR VENUE'S PAGE TO FIND ADDRESSES AN
 D PHONE NUMBERS OF PLACES LISTED\nCLICK HERE FOR OUR BAND/DJ PAGE TO F
 IND DESCRIPTION OF THE BANDS AND LINKS TO THEIR WEB PAGES\nBookings ca
 n change at the last minute, so we recommend checking with the venue b
 efore heading out!\n\n\nFor more information visit https://vbnightlife
 .com/events/click-here-for-tuesday-1-24-12-virginia-beach-entertainmen
 t-listi
DTSTART:20120124T050000Z
DTEND:20120125T045900Z
CATEGORIES:"virginia beach entertainment", "virginia beach nightlife",
  "virginia beach bands"
LOCATION:Virginia Beach
WEBSITE:
URL:
CONTACT:
ORGANIZER;CN="VBnightlife.com":https://vbnightlife.com/profile/admin
ATTACH;FMTTYPE="image/jpeg":http://storage.ning.com/topology/rest/1.0/
 file/get/1664161389?profile=original
ATTENDEE;ROLE=REQ-PARTICIPANT;PARTSTAT=ACCEPTED;RSVP=TRUE;CN="VBnightl
 ife.com":https://vbnightlife.com/profile/admin
END:VEVENT
END:VCALENDAR
