BEGIN:VCALENDAR
PRODID:NingEventWidget-v1
VERSION:2.0
METHOD:PUBLISH
BEGIN:VEVENT
UID:2508951:Event:323305
DTSTAMP:20260423T053019Z
SUMMARY:Click here for TUESDAY 1/19/16 VIRGINIA BEACH EVENTS AND ENTER
 TAINMENT LISTINGS
DESCRIPTION:Download the new FREE mobile app for Virginia Beach.  Use
  this link to download http://onelink.to/yae3t5 or search VBnightli
 fe in the iTunes or Google Play stores today and get a complete list 
 of events, restaurant recommendations, coupons and more!  \n\nFeatur
 ed events\nTinto Wine & Cheese - Hilltop -\"Tuesday @ Tinto\" A Theme
 d Tasting 5 to 8p\nColonial Shooting Academy: Ladies Night All Day 9a 
 to 9p 1/2 off Lane Rental\nMuseum of Contemporary Art (MOCA) - Now on
  Exhibit & Kings of Ukelele at MOCA Nights 7p\n\nAll Events\nAbbey Ro
 ad - Open Stage with Doug Dunn 8:30p\nBella Monte Restaurant & Enotec
 a - 1201 Laskin Rd - Happy Hour at the bar 4 to 6 daily\nEagles Nes
 t - Hilltop - Costume Karaoke 9p\nFroggies - Shore Dr - Open Mic + $4
  Draft + shrimp & crableg dinner specials  \nGrumpy's - Kempsville - 
 Youtube Video 7p\nJerry's Restaurant and Lounge -Chesapeake- Two Whee
 l & Tip Tuesdays 2/$25 Beef Tip Dinner & Happy Hour 'til 9p + TNT Kar
 aoke\nKeagans Irish Pub -Town Center- Jack Becker 10p*\nLongshots Bi
 lliards & Darts- Chesapeake - Karaoke Night & Pool Tournament\nLunasea
  - Jesse Chong 10p*\nMurphy's Irish Pub - Trivia Night 7p\nRY Loung
 e - Oceanfront - Electro Tuesday w/ Dj : X-Ray and DJ 401k\nTapped Gas
 tropub - Hilltop - Tapps & Laughs 9p\nTempt Restaurant & Lounge - SIN
  (Service Industry Night): Theme Specials - Brian Shultz 9p*\nWing 
 King - Rosemont - Trivia 7p, Karaoke 9p COUPON\nWing King - Kempsville
  -  COUPON\nWoody McGee's Barstro- Holland Road - Karaoke w/Paul Bel
 l & Service Industry Specials 9p to Close\n\nFor more information vi
 sit https://vbnightlife.com/events/click-here-for-tuesday-1-19-16-virg
 inia-beach-events-and-entertai
DTSTART:20160119T050000Z
DTEND:20160120T045900Z
CATEGORIES:"virginia beach", "virginia beach nightlife", "virginia bea
 ch bands", "virginia beach entertainment"
LOCATION:Virginia Beach, VA
WEBSITE:http://VBNIGHTLIFE.COM
URL:http://VBNIGHTLIFE.COM
CONTACT:
ORGANIZER:VBnightlife.com / VBdaylife.com / VBhotdeals.com
ATTACH;FMTTYPE="image/jpeg":http://storage.ning.com/topology/rest/1.0/
 file/get/1664295432?profile=original
ATTENDEE;ROLE=REQ-PARTICIPANT;PARTSTAT=ACCEPTED;RSVP=TRUE;CN="VBnightl
 ife.com":https://vbnightlife.com/profile/admin
END:VEVENT
END:VCALENDAR
