BEGIN:VCALENDAR
PRODID:NingEventWidget-v1
VERSION:2.0
METHOD:PUBLISH
BEGIN:VEVENT
UID:2508951:Event:185987
DTSTAMP:20260423T133704Z
SUMMARY:Click here for TUESDAY 1/17/12 VIRGINIA BEACH ENTERTAINMENT LI
 STINGS
DESCRIPTION:ENTERTAINMENT\n15th Street Raw Bar- Pool Tournament, 8PM\n
 Abbey Road- Open Stage\nDiesel- Weekly Beer Pong Tournament, 8PM\nH20-
  Brandon Bower, 8-11PM\nHavanah Nights- Woody Beckner Duo\nKeagans- Ja
 ck Becker, 10PM\nLunasea- Jesse Chong\nMurphys- Pub Triva, 7PM\nSeasid
 e Raw Bar- Sean- Patrick Hickey of Jackmove,9PM (Every other Tuesday)\
 n\nTHEATRE/FUNDRAISERS/CONCERTS/SPORTS:\nSandler Center- Dancing w/ th
 e seniors, 11:30AM\nWells Theatre- Black Pearl Sings, 7PM\n\nDJ’S/KA
 RAOKE/DANCES:\nRetro Cafe- Karaoke\nCabo- DJ Bryan One & Tias, 9PM\nCh
 icho’s 29th - *KARAOKE\nGeared Up- Karaoke\nPoppa’s Pub - *KARAOKE
 * 9:30PM\nJewish Mother- MOMS KARAOKE 8pm\nStarz- Karaoke\nWannaB's- K
 ARAOKE 7 PM - 2 AM  Monday - Saturday (21 and Older)\n\n\nFAMILY FUN/
 SPECIAL EVENTS\nVirginia Beach Restaurant Week\nLittle Theatre of Virg
 inia Beach- Getting Away with Murder (through February 5th)\n\nHAPPY H
 OUR:\n15th Street Raw Bar – clams .50 oysters .75 3-7pm, ny strip + 
 2 sides = $13.99\nCLICK HERE FOR HAPPY HOUR DEALS\nCLICK HERE REACH OU
 R VENUE'S PAGE TO FIND ADDRESSES AND PHONE NUMBERS OF PLACES LISTED\nC
 LICK HERE FOR OUR BAND/DJ PAGE TO FIND DESCRIPTION OF THE BANDS AND LI
 NKS TO THEIR WEB PAGES\nBookings can change at the last minute, so we 
 recommend checking with the venue before heading out!\n\nFor more info
 rmation visit https://vbnightlife.com/events/click-here-for-tuesday-1-
 17-12-virginia-beach-entertainment-listi
DTSTART:20120117T050000Z
DTEND:20120118T045900Z
CATEGORIES:"virginia beach bands", "virginia beach entertainment", "vi
 rginia beach nightlife"
LOCATION:Virginia Beach
WEBSITE:
URL:
CONTACT:
ORGANIZER;CN="VBnightlife.com":https://vbnightlife.com/profile/admin
ATTACH;FMTTYPE="image/jpeg":http://storage.ning.com/topology/rest/1.0/
 file/get/1664162544?profile=original
ATTENDEE;ROLE=REQ-PARTICIPANT;PARTSTAT=ACCEPTED;RSVP=TRUE;CN="VBnightl
 ife.com":https://vbnightlife.com/profile/admin
END:VEVENT
END:VCALENDAR
