BEGIN:VCALENDAR
PRODID:NingEventWidget-v1
VERSION:2.0
METHOD:PUBLISH
BEGIN:VEVENT
UID:2508951:Event:175884
DTSTAMP:20260420T152129Z
SUMMARY:Click here for TUESDAY 11/15/11 VIRGINIA BEACH ENTERTAINMENT L
 ISTINGS
DESCRIPTION:ENTERTAINMENT\nAbbey Road- Josh Seaburg\nCabo Cafe- DJ Bry
 an One and Tias-9PM\nH20- Brandon Bower- 8PM\nKegans- Jack Becker- 10P
 M\nLunasea- Jesse Chong\n\nDJ’S/KARAOKE/DANCES:\nAbbey Road- Open St
 age Night- 9PM\nPoppa's Pub- Open Mic- 7:30-10:30PM\nRetro Cafe- CORNH
 OLE TOURNEY TUESDAYS- 10pm\nSteppin Out- TEXAS HOLD m 6pm\nGeared Up- 
 *KARAOKE*-11pm\nWannaB's- KARAOKE 7 PM - 2 AM  Monday - Saturday (21 
 and Older)\n \nHappy Hour:\n11th Street Taphouse – bogo half-a-tize
 rs 4-9pm\n15th Street Raw Bar – clams .50 oysters .75 3-7pm, ny stri
 p + 2 sides = $13.99\n21st Street Tiki Bar - $2 domestics, $2.50 impor
 ts & well drinks, large pizza + pitcher beer = $13.99 4-9pm || $1 jell
 o shots, $1.50 mickeys/pbr/natty, $4 jager/fireball/flavored vodka mon
 ster bombs\nChicho’s Pizza 29th Street - $2 wells & domestics, $5 pi
 tchers 4-9pm, $1 wells 9-10:30pm, $2 wells 10:30-cl || $1 cheese pizza
  slice, $6.99 large cheese pizza\nChix Sea Grill and Bar (7th Street) 
 - $6.50 lunch specials\n \nCLICK HERE FOR MORE HAPPY HOUR DEALS\n \n
 CLICK HERE REACH OUR VENUE'S PAGE TO FIND ADDRESSES AND PHONE NUMBERS 
 OF PLACES LISTED CLICK HERE FOR OUR BAND/DJ PAGE TO FIND DESCRIPTION O
 F THE BANDS AND LINKS TO THEIR WEB PAGES\n \nBookings can change at t
 he last minute, so we recommend checking with the venue before heading
  out!\n\nFor more information visit https://vbnightlife.com/events/cli
 ck-here-for-tiuesday-11-15-11-virginia-beach-entertainment-lis
DTSTART:20111115T050000Z
DTEND:20111116T045900Z
CATEGORIES:"virginia beach entertainment", "virginia beach bands"
LOCATION:\"Virginia Beach\"
WEBSITE:
URL:
CONTACT:
ORGANIZER;CN="VBnightlife.com":https://vbnightlife.com/profile/admin
ATTACH;FMTTYPE="image/jpeg":http://storage.ning.com/topology/rest/1.0/
 file/get/1664152703?profile=original
ATTENDEE;ROLE=REQ-PARTICIPANT;PARTSTAT=ACCEPTED;RSVP=TRUE;CN="VBnightl
 ife.com":https://vbnightlife.com/profile/admin
END:VEVENT
END:VCALENDAR
