BEGIN:VCALENDAR
PRODID:NingEventWidget-v1
VERSION:2.0
METHOD:PUBLISH
BEGIN:VEVENT
UID:2508951:Event:23463
DTSTAMP:20260422T060808Z
SUMMARY:click here for THURSDAY'S BANDS / NIGHTLIFE / ENTERTAINMENT LI
 STING
DESCRIPTION:757 Restaurant - VB \"JACK BECKER\"\nAbbey Road - VB \"MIK
 E PROFFITT\"\nAJ Gators - VB General Booth *DJ EDDIE* Karaoke\nAttucks
  Theatre - N *SWING DANCE* 8:30pm\nAvanti - VB - HAVANA NIGHTS - DJ - 
 LATIN MUSIC\nBayside Inn - VB *BAYSIDE INN MUSICIANS COLLABORATION* Ho
 sted by Barry & Woody 8:30pm\nBlue Maxe - VB *KARAOKE*\nBoot - N \"JIM
 MY MASTERS TRIO\"\nBusky's - C \"RIVER BOYZ\" 7:30pm\nCabo - VB \"ANOT
 HER DAY AT THE OFFICE BAND\"\nClutch Bar & Grill - VB \"SOUTHERN DRUNK
 EN REBUBLICANS\"\nCoastal Grill - VB - Renowned guitarist Dimitar Zare
 v 5:30\nCroc's - VB \"VINYL HEADLIGHTS\"\nDeja Blu a Jazz Supper Club 
 - VB \"AS 1\" 8pm\nDoc Taylor's Seaside Lounge - VB \"THE INFLUENCE\"\
 nFat Tuesdays - VB *KARAOKE*\nFunny Bone Comedy Club - VB \"TONY ROCK\
 "\nGreen Parrot Grille - VB \"ROBBIE HOUSE\"\nHot Tuna - VB \"DR. BOB 
 & THE BURNING DESIRES\" - OKTOBERFEST - 6PM - $30\nKnuckleheads - VB \
 "SOUTH BEACH BUMS\"\nLendy's - VB *KARAOKE*\nMojo Bones - N \"TREVOR P
 HILIPP\"\nMo & O'Malleys - N \"VAL LITTLE\"\nMurphy's Irish Pub - VB \
 "JOHN ICKES\"\nNorva - N \"KATE VOEGELE\" 7pm $15\nOtani - VB * OPEN S
 TAGE * /w \"KARL WERNE\"\nPeabody - VB WORLD SERIES OF BEER PONG TOURN
 AMENT + *GIRL'S NIGHT OUT*\nPeppermint Beach Club - VB \"YOUNG LZ\"\nS
 ammy's - VB *KARAOKE*\nScooters - VB \"WEST & DANIELS\"\nStarz - VB *K
 ARAOKE*\nTap House - N \"DAVID WAX MUSEUM\"\nThirsty Camel N - Ocean V
 iew \"BADDADZ\"\nTidewater Community College - N *HITZ ON THE PLAZA - 
 HISPANIC EDITIN* 11:30AM - 1PM\n\nOutdoor Events\nGreenies - N \"HOTCA
 KES\" 9pm\n\nFor more information visit https://vbnightlife.com/events
 /click-here-for-thursdays-bands-5
DTSTART:20091008T040000Z
DTEND:20091009T035900Z
CATEGORIES:band, "/", dj, karaoke
LOCATION:Virginia Beach / Norfolk
WEBSITE:
URL:
CONTACT:
ORGANIZER;CN="VBnightlife.com":https://vbnightlife.com/profile/admin
ATTACH;FMTTYPE="image/jpeg":http://storage.ning.com/topology/rest/1.0/
 file/get/1664086767?profile=original
ATTENDEE;ROLE=REQ-PARTICIPANT;PARTSTAT=ACCEPTED;RSVP=TRUE;CN="VBnightl
 ife.com":https://vbnightlife.com/profile/admin
END:VEVENT
END:VCALENDAR
