BEGIN:VCALENDAR
PRODID:NingEventWidget-v1
VERSION:2.0
METHOD:PUBLISH
BEGIN:VEVENT
UID:2508951:Event:13933
DTSTAMP:20260421T014837Z
SUMMARY:click here for THURSDAY'S BAND / EVENT LISTING
DESCRIPTION:757 - JACK BECKER\nAbbey Road - Va Beach \"MIKE PROFFITT\n
 Bar None - THE ENSNARED\nCap't Ron's - Norfolk \"JASON SWAIN & ATLANTI
 C CROSSING\nCentral 111 - DJ KONCEPT\nClutch - KEVIN KELLEY BAND\nCozu
 mel - S.I.N. Party\nCroc's - VB \"BORDERLINE CRAZY\nFinn McCools - VB 
 \"DANZINGO\nGF Keagans - SIX STRING SLINGER\nHK on the Bay - GIVE THAN
 KS BAND\nHot Tuna - JACKMOVE\nH2O - JESSE CHONG\nJewish Mother - BIG I
 N JAPAN + Lake Trout\nKeagans - Town Center - VB \"STEVE FORSS\" 10pm\
 nKokoamos - VB \"BORDERLINE CRAZY ACOUSTIC\nMo & O'Malleys - Norfolk \
 "DAVE CRUMPLER\"\nMurphy's Irish Pub - VB \"JAMES WEST\"\nNorva - Norf
 olk \"TESTAMENT\" + \"UNEARTH\"\nOtani - VB \"KARL WERNE & B J LEIDERM
 AN\nScotty Quixx - Norfolk \"MUCKRAKES\nSeaside Lounge - VB - AUGUSTIN
 E W/ LONG DIVISION\nThirsty Camel - Ocean View - Norfolk \"BADDADZ\"\n
 Tiki Seagrille - Sandbridge Rd - VB \"ED KELLEHER\nTime Lounge - K-DIN
 OS\nWaterman's - JACK BECKER\n\nOUTDOOR EVENTS\n31st STREET STAGE - VB
  \"BUTTER\"\n\nFor more information visit https://vbnightlife.com/even
 ts/click-here-for-thursdays-band-8
DTSTART:20090528T040000Z
DTEND:20090529T035900Z
CATEGORIES:band, dj
LOCATION:Virginia Beach / Norfolk
WEBSITE:
URL:
CONTACT:
ORGANIZER;CN="Nicole Maxino":https://vbnightlife.com/profile/NicoleMax
 ino
ATTACH;FMTTYPE="image/jpeg":http://storage.ning.com/topology/rest/1.0/
 file/get/1664075128?profile=original
ATTENDEE;ROLE=REQ-PARTICIPANT;PARTSTAT=ACCEPTED;RSVP=TRUE;CN="Nicole M
 axino":https://vbnightlife.com/profile/NicoleMaxino
END:VEVENT
END:VCALENDAR
