BEGIN:VCALENDAR
PRODID:NingEventWidget-v1
VERSION:2.0
METHOD:PUBLISH
BEGIN:VEVENT
UID:2508951:Event:24686
DTSTAMP:20260422T060916Z
SUMMARY:click here for THURSDAY'S BAND / NIGHTLIFE / EVENTS LISTING
DESCRIPTION:Abbey Road - VB \"MIKE PROFFITT\"\nAJ Gators - VB General 
 Booth *KARAOKE* w/Eddie 9pm\nAJ Gators - VB Fairfield *KARAOKE 9pm\nBa
 yside Inn - VB *BAYSIDE INN MUSICIANS COLLABORATION* 8:30pm\nCatharine
 's - VB *KARAOKE*\nClub Relevant - VB \"ROOKIE OF THE YEAR\" 6pm $8\nC
 roc's - VB \"BUTTER\"\nDeja Blu a Jazz Supper Club - VB \"SHANICE JAME
 S PROJECT\" 8pm\nDocker's Restaurant & Karaoke Pub - VB *KARAOKE* 9pm\
 nFat Tuesdays - VB *KARAOKE*\nFinn McCools - VB \"DANZINGO\" 9pm\nFly 
 N Fishbone House of Jazz - VB *THE CONNIE PARKER TRIO\" 7:30pm $5\nFun
 ny Bone Comedy Club - VB \"SOMMORE\" 8pm\nGil's Bar & Grill - VB \"GEN
 ITORTURERS W/ HERETICS\" 8pm $20\nGreen Parrot Grille - VB \"BILLY JOE
  DANIELS\"\nH2O - VB \"JESSE CHONG\"\nHalf Shell - VB \"WITHERFADE\"\n
 Icehouse - VB \"JACK BECKER\" 9pm\nKeagan's Town Center - VB \"STEVE F
 ORSS\" 10pm\nKeagan's Pub & Grill - VB *KARAOKE*\nKnuckleheads - VB \"
 CORY DANIEL BAND\" 7:30pm\nLendy’s - VB *KARAOKE*\nLunasea - VB \"VE
 DETTE\"\nMurphy's Irish Pub - VB \"JAMES WEST\"\nNorva - N \"BATTLE FO
 R PAC TOUR\" 6:30pm $13\nOtani - VB * OPEN STAGE * /w \"KARL WERNE\"\n
 Parlay's - VB \"MICHAEL CREECH\"\nPeppermint Beach Club - VB \"GENITOR
 TURERS\" 6pm\nSandler Center - VB \"FRANKIE VALLI & THE FOUR SEASONS\"
  7:30pm $47-127\nSammy’s - VB *KARAOKE*\nScooters - VB \"WEST & DANI
 ELS\" 5pm\nScotty Quixx - N \"THE INFLUENCE\" 10pm $2\nSecrets - VB *K
 ARAOKE*\nShaka's - VB \"THE BLUE ROOM SOUND\"\nStarz - VB *KARAOKE*\nT
 hirsty Camel - N \"BADDADZ\"\nWaterfront - N \"IDLEWILD\" \"DREADZONE\
 " 7:30pm\nWing King - VB \"JOHN BALDWIN BAND\n\nFor more information v
 isit https://vbnightlife.com/events/click-here-for-thursdays-band-24
DTSTART:20091119T050000Z
DTEND:20091120T045900Z
CATEGORIES:band, dj
LOCATION:Virginia Beach / Norfolk
WEBSITE:
URL:
CONTACT:
ORGANIZER;CN="VBnightlife.com":https://vbnightlife.com/profile/admin
ATTACH;FMTTYPE="image/jpeg":http://storage.ning.com/topology/rest/1.0/
 file/get/1664091926?profile=original
ATTENDEE;ROLE=REQ-PARTICIPANT;PARTSTAT=ACCEPTED;RSVP=TRUE;CN="VBnightl
 ife.com":https://vbnightlife.com/profile/admin
END:VEVENT
END:VCALENDAR
