BEGIN:VCALENDAR
PRODID:NingEventWidget-v1
VERSION:2.0
METHOD:PUBLISH
BEGIN:VEVENT
UID:2508951:Event:17665
DTSTAMP:20260425T142554Z
SUMMARY:click here for THURSDAY'S BAND / NIGHTLIFE LISTING
DESCRIPTION:Abbey Road - VB \"TAMMY GARDNER\"\nAngelo's Murder Mystery
  Dinner Theater - VB - Best Western Oceanfront Inn - \"Murder at the H
 igh School Reunion\" 7:15pm $\nCabo - VB - ANOTHER DAY AT THE OFFICE 8
 :30PM\nCap't Ron's - N \"JASON SWAIN\"\nCentral 111 - VB - BLUSH - DJ 
 KONCEPT\nChico's Strawbridge - VB \"JOE HEILMAN\"\nChrysler Museum - N
  \"COOL IT SERIES\" \"GREY MATTER\" 6-9pm $5- $8\nCroc's - VB \"BORDER
 LINE CRAZY\"\nFunny Bone Comedy Club - VB \"JOHN MORGAN\" $\nGil's Bar
  & Grill - VB \"OTIS\"\nGreen Parrot - VB \"MATT DAVIS & JASON SWAIN\"
  or \"DOAD\"\nHalf Shell - VB \"EL PREZIDINO\"\nHarbor Park - NORFOLK 
 TIDES vs indianapolis indians12:15pm $\nH2O - VB \"JESSE CHONG\"\nHoli
 day Inn Sunspree Resort - VB 'NATURE'S CHILD\"\nHot Tuna - VB - LUAU P
 ARTY W/ CHEAP THRILLS 9:30\nIce House - VB - DAVID PETRETTO\nJewish Mo
 ther - VB \"SONS OF BILL\" 9pm\nKeagans - VB Town Center \"STEVE FORSS
 \" 10pm\nKokoamos - VB \"BORDERLINE CRAZY ACOUSTIC\"\nLight House Rest
 aurant - 1201 Atlantic - VB \"ED KELLEHER\" 8-11pm\nLunasea - VB \"LUK
 E TAYLOR\"\nMo & O'Malleys - N \"DAVE CRUMPLER\"\nMurphy's Irish Pub -
  VB \"JOHN ICKES\"\nNorva - N \"G LOVE & SPECIAL SAUCE\"\nO'Sullivan's
  - VB - Great Neck - DAVID CARTER 8:30 + free oyster roast\nOtani - VB
  \"SUZY & THE NATURALS\"\nParlay's - VB \"KEVIN MAC DUO\"\nRegal Beagl
 e - VB \"DAVE JOHNSON\"\nScooters - VB \"WEST & DANIELS\"\nSeaside Mar
 ket Lounge - VB - OCTOPUS (Jam/ rock) 6:30 to 11\nTap House - N \"JONA
 THAN FERRELL\"\nThirsty Camel N Ocean View \"BADDADZ\"\nUpper Deck - V
 B - INTERACTIVE COMEDY\n\n\nOUTDOOR EVENTS\n7th STREET STAGE - VB \"RI
 CH WHISKEY AUDITION\"\n13th STREET STAGE - VB \"THE LIFE & MUSIC OF EL
 LA FITZGERALD\" 7,8 & 9pm\n17th STREET STAGE - VB \"INCONITO BROTHERS\
 " 8:00pm + JOHN BALDWIN & ORIGINAL SINNERS\" 9:30pm\n24th STREET STAGE
  - VB \"THE MAGIC OF KRENDL & CO.\"\n25th STREET PARK - VB \"WRECK OF 
 THE DICTATOR\n31st STREET STAGE - VB \"BUTTER\" 6pm\nOcean House - VB 
 \"JOEY WOOD\" 8pm\nPoppa's Pub Deck - VB \"** Open Mic /w \"CREEK\"\nT
 own Point Park - N Bayou Boogaloo \"TERRANCE SIMIEN (free kickoff part
 y and artist reception) 8:00-9:30 pm\nWyndham - 57th St - VB \"ROBBIE 
 HOUSE DUO\"\n\nFor more information visit https://vbnightlife.com/even
 ts/click-here-for-thursdays-band-17
DTSTART:20090730T040000Z
DTEND:20090731T035900Z
CATEGORIES:band, "/", dj
LOCATION:VB / Norfolk
WEBSITE:
URL:
CONTACT:
ORGANIZER;CN="VBnightlife.com":https://vbnightlife.com/profile/admin
ATTACH;FMTTYPE="image/jpeg":http://storage.ning.com/topology/rest/1.0/
 file/get/1664082119?profile=original
ATTENDEE;ROLE=REQ-PARTICIPANT;PARTSTAT=ACCEPTED;RSVP=TRUE;CN="VBnightl
 ife.com":https://vbnightlife.com/profile/admin
END:VEVENT
END:VCALENDAR
