BEGIN:VCALENDAR
PRODID:NingEventWidget-v1
VERSION:2.0
METHOD:PUBLISH
BEGIN:VEVENT
UID:2508951:Event:17111
DTSTAMP:20260425T232007Z
SUMMARY:click here for THURSDAY'S BAND / NIGHTLIFE LISTING
DESCRIPTION:ALL EVENTS FREE UNLESS OTHERWISE NOTED\n\n37th & ZEN - N *
  Open Mic * 9pm\n757 - JACK BECKER\nAbbey Road - VB \"TAMMY GARDNER\"\
 nBar Norfolk - N Waterside \"RICH WHISKEY AUDITION\"\nThe Boot - N \"J
 AE SINNETT\" 8pm\nCap't Ron's - N \"OFF THE CHAIN\"\nChrysler Museum -
  N \"COOL IT SERIES\" \"PETER HANSEN DUO\" 6-9pm $8/ non-members $5/ m
 embers\nClub Relevant - VB \"LFO\" 5pm\nClutch - VB \"TEE MERONEY\" 7p
 m\nCroc's - VB \"BORDERLINE CRAZY\"\nDaily Grind - VB Towncenter \"JUS
 TIN D\" 6:30pm\nFunny Bone Comedy Club - VB \"BILL BELLAMY\"\nGreen Pa
 rrot - VB \"KEVIN KELLY\"\nGreenies - BADDADZ\nHalf Shell - VB \"INSAN
 A PIRATA\" 8pm\nHeritage Center - VB - PAST LIFE REGRESSION CLASS 7PM\
 nHK on the Bay - VB \"DESTINED NATION\" 10pm\nHolidy Inn Sunpree Resor
 t - VB \"NATURE'S CHILD\" 7pm\nHot Tuna - VB \"CHUCK SHAFFER PICTURE S
 HOW\" \"RYAN JOHNSON\" 8pm\nIce House -\nKeagans - Town Center - VB \"
 STEVE FORSS\" 10pm\nKokoamos - VB \"BORDERLINE CRAZY\" ACOUSTIC\nLight
 house - VB Atlantic Ave - \"ANDY HARRELL\"\nLunasea - VB \"THE RETAILE
 RS\nO'Sullivan's Great Neck - DAVID CARTER + OYSTER ROAST\nOtani - VB 
 \"KEN McNEIL & FRIENDS\"\nParlay's - VB \"KEVIN MAC DUO\"\nRed Star Ta
 vern - LIVE MUSIC AND LIVE PAINTING\nRegal Beagle - VB \"TOMASS & NICK
  OF DHH\"\nScooters - VB \"WEST & DANIELS\"\nScotty Quixx - N - \"CHAS
 ING ARROWS\"\nThirsty Camel - N Ocean View \"BADDADZ\"\nTime Lounge - 
 N - DJ SDOT\nUno's - VB Lynnhaven Mall \"LEWIS McGEHEE\"\nUpper Deck -
  THE MAVERICK IMPROV COMEDY ALL-STARS 7:30\nWing King - VB \"LEMON DIS
 H\"\nWyndham - 57th St - VB \"CALYPSONUTS\"\nWinehouse Bar & Bistro - 
 N Ghent \"JULIE CLARK & LARRY BERWALD\" 7-10pm\n\nOUTDOOR EVENTS\n7th 
 STREET STAGE - VB \"LEFTOVERS\"\n13th STREET STAGE - VB \"THE LIFE AND
  MUSIC OF ELLA FITZGERALD\" 7pm., 8pm., & 9pm.\n17th STREET STAGE - VB
  \"SHAKEDOWN\" 8:00pm + \"DC3\" 9:30pm\n24th STREET STAGE - VB \"THE M
 AGIC OF KRENDL AND CO.\" 7:30pm, 8:30pm\n25th STREET PARK - VB \"WRECK
  OF THE DICTATOR\"8:30pm, 9:15pm. & 10pm.\n31st STREET STAGE - VB \"VI
 NYL HEADLIGHTS\" 6pm\nOCEAN HOUSE - VB \"UNDERCURRENT\"\nPOPPA'S PUB D
 ECK - VB \"** Open Mic /w \"CREEK\"\nTOWNE BANK STAGE - N Town Point P
 ark \"MIKE PROFFITT\" 6-9pm\n\nFor more information visit https://vbni
 ghtlife.com/events/click-here-for-thursdays-band-16
DTSTART:20090723T040000Z
DTEND:20090724T035900Z
CATEGORIES:band, "/", dj
LOCATION:VB / norfolk
WEBSITE:
URL:
CONTACT:
ORGANIZER;CN="VBnightlife.com":https://vbnightlife.com/profile/admin
ATTACH;FMTTYPE="image/jpeg":http://storage.ning.com/topology/rest/1.0/
 file/get/1664080110?profile=original
ATTENDEE;ROLE=REQ-PARTICIPANT;PARTSTAT=ACCEPTED;RSVP=TRUE;CN="VBnightl
 ife.com":https://vbnightlife.com/profile/admin
END:VEVENT
END:VCALENDAR
