BEGIN:VCALENDAR
PRODID:NingEventWidget-v1
VERSION:2.0
METHOD:PUBLISH
BEGIN:VEVENT
UID:2508951:Event:146810
DTSTAMP:20260423T174718Z
SUMMARY:Click here for THURSDAY'S VIRGINIA BEACH ENTERTAINMENT LISTING
DESCRIPTION:\nENTERTAINMENT:Bookings can change at the last minute, so
  we recommend checking with the venue before heading out! 7th St. Stag
 e - FINE SWISS CHEESE  6-10PM13th St. Stage - THE LIFE & MUSIC OF ELL
 A FITZGERALD  7-10PM31st St. Stage - LEAD 86  6-10PMAbbey Road – J
 ACKSON LEBEAU 8:30PMAshley’s Bistro – JAZZY THURSDAYSDoc Taylor’
 s Seaside Market – DJ WILLIAMS PROJEKT  8:30PMGreen Onion - JOANNA 
 LYNN & CHIDORI  8PMH2O - *LIVE ENTERTAINMENT*  9:30PMHK On The Bay -
  DAVE JOHNSONIcehouse - JACK BECKER  9PMIl Giardino – BILLY BATTE 7
 PMLandstown Commons Shopping Center - *SUMMER CONCERT SERIES* FEAT. TH
 E JAY RAKES BAND  6-9PMPoppa’s Pub - *OPEN MIC* w/ JOHNNY RAY  7:3
 0-10:30PMScandals - *BIKE NIGHT & BIKINI CONTEST*  w/ RENDITION 8PMSe
 acrest - JOE HEILMAN  7-10PMShaka’s - THREE LEGGED FOX + NO DREADS 
  10PMSouth Beach - *OPEN MIC* w/ JAMES DEANS  8PMSpringhill Suites B
 oardwalk Patio - BRENT SHEPARD  4-7PMTHEATRE/FUNDRAISERS/CONCERTS/SPO
 RTS:Bayside Bar - COMEDY FACTORY  9PMCinema Café Pembroke – COMEDY
  AT THE CAFÉ  9PMTODAY’S TIDES BASEBALL SCHEDULE FOUND ON NORFOLKN
 IGHTLIFE.COMDJ’S/KARAOKE/DANCES:Central 111 – TWIST THURSDAYS  9P
 M FEAT. DJ AIRICK + DJ SILVERChicho’s  29th - *KARAOKE*Fahrenheit -
  DJ BRYAN ONE 10PMLendy’s - *KARAOKE*Poppa’s Pub - *KARAOKE* 9:30P
 MReef Lounge - *KARAOKE*  9PMRetro Cafe - *SURPRISE GUEST DJ*  10PMF
 AMILY FUN/SPECIAL EVENTS:17th St. Stage - CIRCUS IN THE PARK  7:30-10
 :30PM24th St. Stage - KRENDL & COMPANY MAGICAL VARIETY SHOW  7:30-10:
 30PM27th St. Beach – FAMILY GREAT ADVENTURES FILM SERIESContemporary
  Art Center - *CAC MOVIE SERIES* FEAT. “THE LAST HORIZON”  7PM  
 ($7)Historic Villages at Cape Henry - VILLAGE TOURS  2-6PM (on the ho
 ur)  ($8/5)Historic Villages at Cape Henry – “1607: FIRST LANDING
 ”  6PMLendy’s - *KIDS KARAOKE*  6-8PMLittle Island Park - ADAM Q
 UEEN’S GAMES & MAGIC w/ RANDY  5-9PMOld Coast Guard Station - STORY
 TIME w/ GRANDMA BEACH  11AM-12PMVirginia Aquarium – TODDLER TREK TH
 URSDAYS 11AMVirginia Aquarium - “DISCOVER THE WOODS” WILDLIFE SEAR
 CH  10AM-4PM  (WEATHER PERMITTING)\nCLICK HERE REACH OUR VENUE'S PAG
 E TO FIND ADDRESSES AND PHONE NUMBERS OF PLACES LISTED\nCLICK HERE FOR
  OUR BAND/DJ PAGE TO FIND DESCRIPTION OF THE BANDS AND LINKS TO THEIR 
 WEB PAGES\n\nFor more information visit https://vbnightlife.com/events
 /click-here-for-thursdays-90
DTSTART:20110818T040000Z
DTEND:20110819T035900Z
CATEGORIES:"virginia beach", "virginia beach events", "virginia beach 
 bands", "virginia beach entertainment"
LOCATION:Virginia Beach
WEBSITE:
URL:
CONTACT:
ORGANIZER:VBnightlife.com / VBdaylife.com
ATTACH;FMTTYPE="image/jpeg":http://storage.ning.com/topology/rest/1.0/
 file/get/1664143142?profile=original
ATTENDEE;ROLE=REQ-PARTICIPANT;PARTSTAT=ACCEPTED;RSVP=TRUE;CN="VBnightl
 ife.com":https://vbnightlife.com/profile/admin
END:VEVENT
END:VCALENDAR
