BEGIN:VCALENDAR
PRODID:NingEventWidget-v1
VERSION:2.0
METHOD:PUBLISH
BEGIN:VEVENT
UID:2508951:Event:78923
DTSTAMP:20260423T103527Z
SUMMARY:Click here for THURSDAY'S VIRGINIA BEACH ENTERTAINMENT LISTING
DESCRIPTION:\n\nVIEW BASEBALL SCHEDULES IN NORFOLK BY CLICKING HERE\nC
 LICK HERE REACH OUR VENUE'S PAGE TO FIND ADDRESSES AND PHONE NUMBERS O
 F PLACES LISTED\nCLICK HERE FOR OUR BAND/DJ PAGE TO FIND DESCRIPTION O
 F THE BANDS AND LINKS TO THEIR WEB PAGES\nENTERTAINMENT:\nBookings can
  change at the last minute, so we recommend checking with the venue be
 fore heading out!\nAbbey Road – MIKE PROFFITT 8:30PM\nAshley’s Bis
 tro – JAZZY THURSDAYS\nBoneshakers – DOUBLE SHOTS 7:30-11PM\nDoc T
 aylor’s Seaside Lounge –THE MANTRAS 8:30PM\nGreen Onion – RED ST
 APLER DUO 7PM *ITALIAN WINE TASTING*\nH2O – JESSE CHONG 10PM\nIcehou
 se – BRENT SHEPARD  8:30-11:30PM\nIl Giardino – BILLY BATTE 7PM\n
 Jack’s Bistro – DHANA ROWE  8PM\nKnuckleheads – LOCASH COWBOYS 
 + FRANKIE BALLARD + ASHLEY GEARING 8:30PM\nMurphy’s – THE HAVERS\n
 Shaka’s – INSANA PIRATA + FIRING SQUAD MISHAP + WE WERE WARNED + A
 MONGST THE ENEMY + MARGIN OF ERROR 9PM\n \nTHEATRE/FUNDRAISERS/CONCER
 TS/SPORTS:\nCatholic High School’s Barry Rodinson Theatre – “THE
  DROWSY CHAPERONE”  7PM\nCinema Café Pembroke – COMEDY AT THE CA
 FÉ  9PM \n \nDJ’S/KARAOKE/DANCES:\nCentral 111 – TWIST THURSDA
 YS FEAT. DJ AIRICK + DJ SILVER  9PM\nFat Tuesday’s - *KARAOKE*\nLen
 dy’s - *KARAOKE*\nSmokies - *KARAOKE*\nWing King - *LADIES NIGHT KAR
 AOKE w/ COREY*\n \nSPECIAL EVENTS:\nDiamond Springs Elementary School
  – WILLIAMS FARM SKATE PARK PUBLIC INFORMATION DESIGN WORKSHOP  6-8
 PM\nWHTK RADIO – AM 1650 – FACE TO FACE w/ BRIAN HOLLAND FEAT. GAR
 Y GARD: THE WAYBACK MACHINE  9-11PM\n\n\nFor more information visit h
 ttps://vbnightlife.com/events/click-here-for-thursdays-8
DTSTART:20110407T040000Z
DTEND:20110408T035900Z
CATEGORIES:"virginia beach", "virginia beach events", "virginia beach 
 bands", "virginia beach entertainment"
LOCATION:VIRGINIA BEACH
WEBSITE:
URL:
CONTACT:
ORGANIZER:VBnightlife.com / VBdaylife.com
ATTACH;FMTTYPE="image/jpeg":http://storage.ning.com/topology/rest/1.0/
 file/get/1664135258?profile=original
ATTENDEE;ROLE=REQ-PARTICIPANT;PARTSTAT=ACCEPTED;RSVP=TRUE;CN="VBnightl
 ife.com":https://vbnightlife.com/profile/admin
END:VEVENT
END:VCALENDAR
