BEGIN:VCALENDAR
PRODID:NingEventWidget-v1
VERSION:2.0
METHOD:PUBLISH
BEGIN:VEVENT
UID:2508951:Event:79309
DTSTAMP:20260421T145144Z
SUMMARY:Click here for THURSDAY'S VIRGINIA BEACH ENTERTAINMENT LISTING
DESCRIPTION:\nCLICK HERE REACH OUR VENUE'S PAGE TO FIND ADDRESSES AND 
 PHONE NUMBERS OF PLACES LISTED\nCLICK HERE FOR OUR BAND/DJ PAGE TO FIN
 D DESCRIPTION OF THE BANDS AND LINKS TO THEIR WEB PAGES\nENTERTAINMENT
 :\nBookings can change at the last minute, so we recommend checking wi
 th the venue before heading out!\nAbbey Road – MIKE PROFFITT 8:30PM\
 nAshley’s Bistro – JAZZY THURSDAYS\nBoneshakers – JAMES DEANS 7:
 30-11PM\nCROC’S – THE OFFICE \nDiesel – SNACKBAR JONES\nDoc Tay
 lor’s Seaside Lounge – THE SILO EFFECT 8:30PM\nGreen Onion – KAT
 E & DAVE  8-10PM\nH2O – JACKMOVE \nIl Giardino – BILLY BATTE 7PM
 \nJack’s Bistro – ROBIN WELCH  8PM\nKnuckleheads – WHITE TRASH 
 CIRCUS  8:30-11:30PM\nMurphy’s – VAL LITTLE  10PM\n \nTHEATRE/F
 UNDRAISERS/CONCERTS/SPORTS:\nCinema Café Pembroke – COMEDY AT THE C
 AFÉ  9PM\nFrankie’s Ribs Fairfield – “HAMPTON ROADS LIVE” FU
 NDRAISER FOR JAPAN  6-9PM\nSurf Club Ocean Grille – DINING OUT FOR 
 LIFE  6-10PM\n \nDJ’S/KARAOKE/DANCES:\nAria – DJ RED  9PM\nCent
 ral 111 – BLUSH LADIES NIGHT  9PM FEAT. DJ SILVER\nFat Tuesday’s 
 - *KARAOKE*\nHangar 09 – CAMP LO + MR. CORNBREAD  8:30PM\nLendy’s
  - *KARAOKE*\nReef Lounge - *KARAOKE*  9PM\nSmokies - *KARAOKE*\n\n\n
 For more information visit https://vbnightlife.com/events/click-here-f
 or-thursdays-496
DTSTART:20110428T040000Z
DTEND:20110429T035900Z
CATEGORIES:"virginia beach", "virginia beach events", "virginia beach 
 bands", "virginia beach entertainment"
LOCATION:VIRGINIA BEACH
WEBSITE:
URL:
CONTACT:
ORGANIZER:VBnightlife.com / VBdaylife.com
ATTACH;FMTTYPE="image/jpeg":http://storage.ning.com/topology/rest/1.0/
 file/get/1664139489?profile=original
ATTENDEE;ROLE=REQ-PARTICIPANT;PARTSTAT=ACCEPTED;RSVP=TRUE;CN="VBnightl
 ife.com":https://vbnightlife.com/profile/admin
END:VEVENT
END:VCALENDAR
