BEGIN:VCALENDAR
PRODID:NingEventWidget-v1
VERSION:2.0
METHOD:PUBLISH
BEGIN:VEVENT
UID:2508951:Event:146771
DTSTAMP:20260423T154043Z
SUMMARY:click here for THURSDAY'S VIRGINIA BEACH ENTERTAINMENT LISTING
DESCRIPTION:\nCLICK HERE REACH OUR VENUE'S PAGE TO FIND ADDRESSES AND 
 PHONE NUMBERS OF PLACES LISTED\nCLICK HERE FOR OUR BAND/DJ PAGE TO FIN
 D DESCRIPTION OF THE BANDS AND LINKS TO THEIR WEB PAGES\n\nENTERTAINME
 NT:\nBookings can change at the last minute, so we recommend checking 
 with the venue before heading out!\n7th St. Stage - MINK & CHEEF  6-1
 0PM13th St. Stage - THE LIFE & MUSIC OF ELLA FITZGERALD  7-10PM31st S
 t. Stage - BUTTER  6-10PMAbbey Road – MIKE PROFFITT 9:30PMAshley’
 s Bistro – JAZZY THURSDAYS\nBoneshakers - WEST & DANIELS ACOUSTIC  
 \nChicho’s 29th - JACKMOVE  9:30PM\nDeja Blu Jazz Club - J.P.3.  9
 PM\nDiesel - 40 OZ TO FREEDOM  6-11PM  ($8/10)\nDoc Taylor’s Seasi
 de Market – OCTOPUS  8:30PM\nGreen Onion - JOANNA LYNNE w/ CHIDORI\
 nGreen Parrot - *OPEN MIC* w/ DHANA ROWE\nH2O - JESSE CHONG  10PMHK O
 n The Bay - RED STAPLER DUO  Holiday TRVL Park - THE JANITORS  7PM\n
 Hot Tuna - PHOEBUS RIO\nIl Giardino – BILLY BATTE 7PM\nKeagan’s - 
 STEVE FORSS 10PM\nKnuckleheads - HOUSE WINOS  Landstown Commons Shopp
 ing Center - *SUMMER CONCERT SERIES* FEAT. KEVIN MAC  6-9PMLunaSea - 
 NO DREADS + AFTER THIS SUMMER  3:30-6:30PM\nPoppa’s Pub - *OPEN MIC
 * w/ JOHNNY RAY  7:30-10:30PM\nScandals - *BIKE NIGHT* FEAT. BAREFOOT
  & CRAZY  7-11PMShaka’s - BIMINI RD + BURN THE RADIO  9:30PM\nSher
 aton 36th St. - JONATHAN REGIER  7-9PM\nSouth Beach - *OPEN MIC* w/ J
 AMES DEANS  8PM\n\nSpringhill Suites Boardwalk Patio - BRENT SHEPARD 
  4-7PM\n\nTHEATRE/FUNDRAISERS/CONCERTS/SPORTS:\nCinema Café Pembroke
  – COMEDY AT THE CAFÉ  9PM\nDJ’S/KARAOKE/DANCES:\nCentral 111 
  TWIST THURSDAYS  9PM FEAT. DJ AIRICK + DJ SILVER\nChicho’s  29th
  - *KARAOKE*\nFat Tuesday’s - *KARAOKE*\nLendy’s - *KARAOKE*\n\nPe
 abody’s - CIARA + DJ SKRIBBLE  9PM  (INVITATION ONLY)\nPoppa’s P
 ub - *KARAOKE* 9:30PM\nReef Lounge - *KARAOKE*  9PM\nRetro Cafe - DJ 
 OPIK  10PM\nSmokies - *KARAOKE*\nFAMILY FUN/SPECIAL EVENTS:\n24th St.
  Stage - KRENDL & COMPANY MAGICAL VARIETY SHOW  7:30-10:30PM\nContemp
 orary Art Center - *EXCITING ART* w/ KIM KEEVER + JEAN-PIERRE ROY + SA
 YAKA SUZUKI  6-8PM  ($5)Historic Villages at Cape Henry – “1607:
  FIRST LANDING”  6PMLendy’s - *KIDS KARAOKE*  6-8PMLittle Island
  Park - ADAM QUEEN’S GAMES & MAGIC w/ VICTORIA PHELPS (STORYTELLER) 
  5-9PMOld Coast Guard Station - STORYTIME w/ GRANDMA BEACH  11AM-12P
 MOld Coast Guard Station - SHIPWRECKS & GHOST LORE  7:30-9PM  ($5/10
 )Town Center - *MOVIE NIGHT ON THE GREEN*  “ANTZ”  7:30PM\n \n\
 nFor more information visit https://vbnightlife.com/events/click-here-
 for-thursdays-108
DTSTART:20110721T040000Z
DTEND:20110722T035900Z
CATEGORIES:"virginia beach", "virginia beach events", "virginia beach 
 bands", "virginia beach entertainment"
LOCATION:Virginia Beach
WEBSITE:
URL:
CONTACT:
ORGANIZER:VBnightlife.com / VBdaylife.com
ATTACH;FMTTYPE="image/jpeg":http://storage.ning.com/topology/rest/1.0/
 file/get/1664148309?profile=original
ATTENDEE;ROLE=REQ-PARTICIPANT;PARTSTAT=ACCEPTED;RSVP=TRUE;CN="VBnightl
 ife.com":https://vbnightlife.com/profile/admin
END:VEVENT
END:VCALENDAR
