BEGIN:VCALENDAR
PRODID:NingEventWidget-v1
VERSION:2.0
METHOD:PUBLISH
BEGIN:VEVENT
UID:2508951:Event:167536
DTSTAMP:20260423T235501Z
SUMMARY:Click here for THURSDAY'S VIRGINIA BEACH ENTERTAINMENT LISTING
DESCRIPTION:\nENTERTAINMENT:7th St. Stage - T.F.C. BAND  6-10PM31st S
 t. Stage - PLASTIC EDDIE  6-10Abbey Road – MIKE PROFFITT 8:30PMAshl
 ey’s Bistro – JAZZY THURSDAYSChicho’s 29th - *LIVE ENTERTAINMENT
 *  9:30PMCroc’s - *LIVE ENTERTAINMENT*Doc Taylor’s Seaside Market
  – SKYDOG: ALLMAN BROS TRIBUTE 8:30PMGreen Oak - *OPEN MIC* w/ DAWNH
 A  9:30PMGreen Onion - *LIVE ENTERTAINMENT*Green Parrot - *OPEN MIC* 
 w/ DAHNA ROWE  9PMH2O - JESSE CHONG  9:30PMHK On The Bay - BRANDON B
 OWER  9PMIl Giardino – BILLY BATTE 7PMJack’s Bistro - *LIVE ENTER
 TAINMENT*Keagan’s - STEVE FORSS  10PMLandstown Commons Shopping Cen
 ter - *SUMMER CONCERT SERIES* FEAT. THE DUDES  6-9PMLunasea - BORDERL
 INE CRAZY  10PMPoppa’s Pub - *OPEN MIC* w/ JOHNNY RAY  7:30-10:30P
 MScandals - *BIKE NIGHT*  8PMShaka’s - ASG + SHINERUNNER + STONEWAL
 L  10PM  ($10)Skate High - IN ALCATRAZ 1962 + LEGION + IN DYING ARMS
  + EXILE THE ARCHITECT + SILENCE THE ASSEMBLY  6-10PM  ($10)South Be
 ach - *OPEN MIC* w/ JAMES DEANS  8PMSwell - *BIKE NIGHT* FEAT. LIVE E
 NTERTAINMENT  7-11PMWing King - *OPEN MIC*  9PM THEATRE/FUNDRAISERS
 /CONCERTS/SPORTS:Bayside Bar - COMEDY FACTORY  9PMCinema Café Pembro
 ke – COMEDY AT THE CAFÉ  9PMFarm Bureau Live - *ROCKSTAR UPROAR FE
 STIVAL* FEAT. AVENGED SEVENFOLD, THREE DAYS GRACE, SEETHER, BULLET FOR
  MY VALENTINE, ESCAPE THE FATE, SEVENDUST, BLACK TIDE, ART OF DYING, H
 ELL OR HIGHWATER  1PM  ($32-101)TODAY’S TIDES BASEBALL SCHEDULE FO
 UND ON NORFOLKNIGHTLIFE.COMDJ’S/KARAOKE/DANCES:Central 111 – TWIST
  THURSDAYS  9PM FEAT. DJ AIRICK + DJ SILVERChicho’s 29th - *KARAOKE
 *Croc’s - DJ DeFF  10PMFat Tuesday’s - *KARAOKE*Funny Bone Comedy
  Club - DJDOYOTHANGLendy’s - *KARAOKE*  8PMPoppa’s Pub - *KARAOKE
 * 9:30PMReef Lounge - *KARAOKE*  9PMRetro Cafe - *LOCALS VIP* FEAT. D
 J COOLHAND LUKE  10PMSmokies - *KARAOKE*FAMILY FUN/SPECIAL EVENTS:Len
 dy’s - *KIDS KARAOKE*  6-8PMVirginia Aquarium – TODDLER TREK THUR
 SDAYS 11AMVirginia Aquarium - “DISCOVER THE WOODS” WILDLIFE SEARCH
   10AM-4PM  (WEATHER PERMITTING)\n \nBookings can change at the las
 t minute, so we recommend checking with the venue before heading out!C
 LICK HERE REACH OUR VENUE'S PAGE TO FIND ADDRESSES AND PHONE NUMBERS O
 F PLACES LISTEDCLICK HERE FOR OUR BAND/DJ PAGE TO FIND DESCRIPTION OF 
 THE BANDS AND LINKS TO THEIR WEB PAGES\n\n\nFor more information visit
  https://vbnightlife.com/events/click-here-for-thursday-s-virginia-bea
 ch-entertainment-listing-1
DTSTART:20110901T040000Z
DTEND:20110902T035900Z
CATEGORIES:"virginia beach events", "virginia beach entertainment", "v
 irginia beach bands", "virginia beach djs", "virginia beach family fun
 ", "virginia beach fundraisers"
LOCATION:Virginia Beach
WEBSITE:
URL:
CONTACT:
ORGANIZER:VBnightlife.com / VBdaylife.com
ATTACH;FMTTYPE="image/jpeg":http://storage.ning.com/topology/rest/1.0/
 file/get/1664151305?profile=original
ATTENDEE;ROLE=REQ-PARTICIPANT;PARTSTAT=ACCEPTED;RSVP=TRUE;CN="VBnightl
 ife.com":https://vbnightlife.com/profile/admin
END:VEVENT
END:VCALENDAR
