BEGIN:VCALENDAR
PRODID:NingEventWidget-v1
VERSION:2.0
METHOD:PUBLISH
BEGIN:VEVENT
UID:2508951:Event:313501
DTSTAMP:20260422T135017Z
SUMMARY:Click here for THURSDAY 9/3/15 Events and Entertainment Listin
 g
DESCRIPTION:SPECIAL EVENTS\nTinto Wine & Cheese - Hilltop - \"Cheese 
 Please\" Sample cheese and wine from around the world 5 to 8p\nAssocia
 tion for Research and Enlightenment (A.R.E.) Oceanfront - Soul Collage
  6 to 8pm \nMuseum of Contemporary Art (MOCA) Now on Exhibit \nAdv
 enture Park at the Virginia Aquarium - Glow in the Park open 7 to 
 11p with Lewis McGehee 7 to 10p - $3 Off Discounted Admission With 
 Promo Code GLOW here http://bit.ly/1FhDqIF\nFarm Bureau Live - Jason 
 Aldean, Cole Swindell, Tyler Farr 7:30p\n\nLive Music\n7th Street Stag
 e - Jack* ass Flats 6p\n31st Street Stage - Mike Proffitt 6p\n34th S
 treet Stage - Tiki Bar Band 6p\nAbbey Road Pub - Bernie & Sherri 8:30p
 \nBoneshakers -  7 - 11p on the patio\nCalypso Bar & Grill - Atlantic
  Ave - 6p\nChicho's - 29th Street - 9:30p\nChops - Home Republic Patio
  - 6p\nCocomo Joe's - The Charltones 9p\nDoc Taylor's Seaside Market 
 Lounge - Megan Jean & the KFB 8p\nEagles Nest -Hilltop- Ladies Night 
 w/ DJ James Jackson 6p\nFroggie's Cantina By The Bay -Shore Drive- Br
 ian Grilli 8p\nIce House - Live Music 9p\nJerry's Restaurant & Lounge
  -Chesapeake- TNT Karaoke\nKeagan's Irish Pub -Town Center- Steve Fo
 rss 10p*\nLongshots Billiards & Darts- Chesapeake- Beer Pong & Corn Ho
 le* - Hottest Night of the Week\nMurphy's Irish Pub -  Big Forest Fir
 e 9p\nRY Lounge - Oceanfront - Social Thursday, Ladies Night w/ DJ Pun
 isha\nSalty C's - Shore Drive - Open Mic\nTapped Gastropub - Hilltop
  - Brett Williams 9p\nTempt Restaurant and Lounge- 1/2 price wine al
 l night + Liana Duet 9p*\nWing King - Rosemont - Brent Shepard 9p 
  COUPON\nWing King - Kempsville - Open Mic 9p  COUPON\nWoody McGees
  - Holland Road - Mike deMoss 9p\n\nFor more information visit https:
 //vbnightlife.com/events/click-here-for-thursday-9-3-15-events-and-ent
 ertainment-listing
DTSTART:20150903T040000Z
DTEND:20150904T035900Z
CATEGORIES:"virginia beach", "virginia beach nightlife", "events in vi
 rginia beach", "virginia beach bands", "virginia beach entertainment"
LOCATION:Virginia Beach, VA
WEBSITE:
URL:
CONTACT:
ORGANIZER:VBnightlife.com / vbdaylife
ATTACH;FMTTYPE="image/jpeg":http://storage.ning.com/topology/rest/1.0/
 file/get/1664284267?profile=original
ATTENDEE;ROLE=REQ-PARTICIPANT;PARTSTAT=ACCEPTED;RSVP=TRUE;CN="VBnightl
 ife.com":https://vbnightlife.com/profile/admin
END:VEVENT
END:VCALENDAR
