BEGIN:VCALENDAR
PRODID:NingEventWidget-v1
VERSION:2.0
METHOD:PUBLISH
BEGIN:VEVENT
UID:2508951:Event:202155
DTSTAMP:20260422T123052Z
SUMMARY:Click here for THURSDAY 9/13/12 VIRGINIA BEACH ENTERTAINMENT L
 ISTINGS
DESCRIPTION:LIVE ENTERTAINMENT\n11th Street Taphouse- Live Entetainme
 nt, 7-10PM\nBoneshakers- Spider Love, 8-11 + Prime Rib night every Thu
 rsday $1.50 oz cut to order -Happy Hour 3 to 7\nAbbey Road- Mike Proff
 itt\nCinema Cafe (Pembroke)- Comedy Night, 9-11PM\nCalypso- Live Enter
 tainment, w/ Rock-e-oke, 6-10PM\nDoc Taylors Seaside Market Lounge- Ki
 ngs of Belmont, 8:30PM\nFinn McCools- No Charge\nGreen Parrot- Open Mi
 c w/ Dahna Rowe\nH20- Jesse Chong, 10PM\nHavanah Nights- Cocktail Pian
 o (Wed.-Sat.,) w/Justin Kauflin,5-7PM, Justin Kauflin Trio, 8 -11PM\n
 IL Giardino- Live Entertainment in the lounge w/ Mr. Billy Batte- 7PM
 \nKeagans- Steve Forss,10PM\nMurphys-Martin Marron, 9PM\nO'Learys- (Ly
 nnhaven Dr) Service Industry Night, 10PM\nOmega's- Sexy Thursday's w/ 
 DJ Atrevete (Every Thursday)\nPoppas Pub- Open Mic w/ Common Ground, 7
 PM\nRetro Cafe- Ladies Night w/ Live DJ's\nSalty C's- (Shore Dr) Open 
 Mic\nStarz- Open Mic w/ Fo Mo Hoz, 8:30PM\nTayst- Half price bottle of
  wine night (Every Thursday)\nWoody McGees- Mike DeMoss, 9:30PM-12:30A
 M\n \n \nDJ’S/KARAOKE/DANCES:\nRetro Cafe- Karaoke\nGreen Parrot- 
 Open Mic w/ Dahna Rowe\nSecrets- Karaoke w/ El Mike, 9PM-1AM\nWannaB's
 - KARAOKE 7 PM - 2 AM  Monday - Saturday (21 and Older)\nCLICK HERE F
 OR HAPPY HOUR DEALS\nCLICK HERE REACH OUR VENUE'S PAGE\nCLICK HERE FOR
  OUR BAND/DJ PAGE\n\nFor more information visit https://vbnightlife.co
 m/events/click-here-for-thursday-9-13-12-virginia-beach-entertainment-
 list
DTSTART:20120913T040000Z
DTEND:20120914T035900Z
CATEGORIES:"virginia beach entertainment", "virginia beach nightlife",
  "virginia beach bands"
LOCATION:Virginia Beach
WEBSITE:
URL:
CONTACT:
ORGANIZER:VBnightlife.com (Dionna Campanella)
ATTACH;FMTTYPE="image/jpeg":http://storage.ning.com/topology/rest/1.0/
 file/get/1664178814?profile=original
ATTENDEE;ROLE=REQ-PARTICIPANT;PARTSTAT=ACCEPTED;RSVP=TRUE;CN="VBnightl
 ife.com":https://vbnightlife.com/profile/admin
END:VEVENT
END:VCALENDAR
