BEGIN:VCALENDAR
PRODID:NingEventWidget-v1
VERSION:2.0
METHOD:PUBLISH
BEGIN:VEVENT
UID:2508951:Event:294643
DTSTAMP:20260425T225719Z
SUMMARY:Click here for THURSDAY 8/28/14 VIRGINIA BEACH ENTERTAINMENT L
 ISTINGS
DESCRIPTION:\nDownload the new FREE mobile app for Virginia Beach. Â U
 se this link: http://onelink.to/yae3t5Â or Search VBnightlife in the i
 Tunes or Google Play stores today and get a complete list of events, r
 estaurant recommendations, coupons and more!\nÂ SPECIAL EVENT:Â Techno
 logy Expo at the Cavalier\n\nLIVE ENTERTAINMENT and More\nAbbey Road -
  Mike Proffitt 9pm Â \nBahama Breeze - John Baldwin 5 to 8pm\nBaja San
 dbridge - Karaoke 8pm\nBeach Quarters Resort - Evan Button 6pm\nBonesh
 aker's - Jack Becker Patio 7-11:00pm Â Â \nCalypso - Cody Austin 6pm Â
  \nDoc Taylor's Seaside Market Lounge - The Shack Band 9pmÂ www.thesha
 ckband.com\nEagle's Nest (Hilltop) - Ladies Night - Feral 9pm\nFinn Mc
 Cool's - Brent Shepard 9pm\nFroggies - Jesse Chong Â 8pm\nGreen Parrot
  - OPEN MIC /w \"DAHNA ROWE\nGrumpy's - Ever After 9pm\nIce House - T.
  Ford 9pm\nJagers - Brian Grilli and Southern Profits 7pm\nJewish Moth
 er - Karaoke 8pm\nKeagans - Town Center - STEVE FORSS\" 10pm\nLighthou
 se - Â Blackwater Jam 6pm\nOcean House - Mike DeMoss 7pm\nPoppa's Pub 
 - Open Mic with Laced Up 9pm\nSalty C's - Shore Drive - OPEN MIC 8pm\n
 South Beach Grill - T Meroney & Cathy Mac 9pmÂ \nWoody' McGee's - Mike
  DeMoss 9pm\nÂ \nOceanfront Stages\n7th St. Stage (6pmâ€“10:00pm) Ryan
  Hines Band\n17th St. Park (8pmâ€“10:45pm) Â  Brandon Bower Band\n24th
  St. Park (7:30pm, 8:30pm, 9:30pm) Krendlâ€™s Magic Variety SHow\n25th
  St. Park (8:45pm, 9:30pm) Aviators & AfterBurners: A Naval Power lega
 cy Â \n31st St. Stage (7:30pmâ€“9:30pm) Â Symphony by the Sea - Sympho
 nicity\n34th St. Stage (6pmâ€“10:00pm) Â Lewis McGehee\nFOR A NEWLY UP
 DATED HAPPY HOUR LISTING WITH DAILY FOOD AND DRINK DEALSÂ Visit the \"
 Happy Hour\" Button on the App Â \n\nTo download the app, SEARCH *VBNI
 GHTLIFE* IN THE APP STORES. Â ENJOY!\n\nFor a 13 Day Forcast of live m
 usicÂ in Coastal Virginia / Hampton Roads, visitÂ www.meona.netÂ Â \n\
 nCLICK HERE FOR THE BEST DEALS & COUPONSÂ IN VIRGINIA BEACH FEATURING 
 EXCLUSIVE BARGAINS.\n\n\nFor more information visit https://vbnightlif
 e.com/events/click-here-for-thursday-8-28-14-virginia-beach-entertainm
 ent-list
DTSTART:20140828T040000Z
DTEND:20140829T035900Z
CATEGORIES:"virginia beach", "virginia beach nightlife", "virginia bea
 ch bands", "virginia beach entertainment"
LOCATION:Virginia Beach, VA
WEBSITE:
URL:
CONTACT:
ORGANIZER;CN="VBnightlife.com":https://vbnightlife.com/profile/admin
ATTACH;FMTTYPE="image/jpeg":http://storage.ning.com/topology/rest/1.0/
 file/get/1664246436?profile=original
ATTENDEE;ROLE=REQ-PARTICIPANT;PARTSTAT=ACCEPTED;RSVP=TRUE;CN="VBnightl
 ife.com":https://vbnightlife.com/profile/admin
END:VEVENT
END:VCALENDAR
